BEGIN:VCALENDAR
VERSION:2.0
PRODID:-//AusschreibungsRadar//Timeline//DE
CALSCALE:GREGORIAN
METHOD:PUBLISH
X-WR-CALNAME:Projekt Prüfung ortsveränderlicher elektrischer Geräte
X-WR-TIMEZONE:Europe/Berlin
BEGIN:VEVENT
UID:6f3b7cdac380f987@ausschreibungsradar.com
DTSTAMP:20260424T150447Z
DTSTART;VALUE=DATE:20250226
DTEND;VALUE=DATE:20250226
SUMMARY:Angebotsfrist — Prüfung ortsveränderlicher elektrischer Geräte
DESCRIPTION:Phase: Ausschreibung | Beschreibung: Angebote werden eingeholt | Link: https://ausschreibungsradar.com/ausschreibung/775215d7-372c-4408-ba55-57da38b01704/
URL:https://ausschreibungsradar.com/ausschreibung/775215d7-372c-4408-ba55-57da38b01704/
END:VEVENT
BEGIN:VEVENT
UID:d6e953541d7fa265@ausschreibungsradar.com
DTSTAMP:20260424T150447Z
DTSTART;VALUE=DATE:20250717
DTEND;VALUE=DATE:20250717
SUMMARY:Vergabeergebnis — Prüfung ortsveränderlicher elektrischer Geräte
DESCRIPTION:Phase: Vergabeergebnis | Beschreibung: Auftrag wurde zugeschlagen | Link: https://ausschreibungsradar.com/ausschreibung/353ac98b-5866-4c2a-b2cf-b23f23612491/
URL:https://ausschreibungsradar.com/ausschreibung/353ac98b-5866-4c2a-b2cf-b23f23612491/
END:VEVENT
END:VCALENDAR
