BEGIN:VCALENDAR
VERSION:2.0
PRODID:-//AusschreibungsRadar//Timeline//DE
CALSCALE:GREGORIAN
METHOD:PUBLISH
X-WR-CALNAME:Projekt Neubau eines Feuerwehrhauses - Freianlagen
X-WR-TIMEZONE:Europe/Berlin
BEGIN:VEVENT
UID:02ee06d4e9509878@ausschreibungsradar.com
DTSTAMP:20260425T185200Z
DTSTART;VALUE=DATE:20250130
DTEND;VALUE=DATE:20250130
SUMMARY:Angebotsfrist — Neubau eines Feuerwehrhauses - Freianlagen
DESCRIPTION:Phase: Ausschreibung | Beschreibung: Angebote werden eingeholt | Link: https://ausschreibungsradar.com/ausschreibung/354981e4-705b-483e-854c-bac4beeefff1/ | Geschätzter Wert: 125000 €
URL:https://ausschreibungsradar.com/ausschreibung/354981e4-705b-483e-854c-bac4beeefff1/
END:VEVENT
BEGIN:VEVENT
UID:5eccb30046982d40@ausschreibungsradar.com
DTSTAMP:20260425T185200Z
DTSTART;VALUE=DATE:20241220
DTEND;VALUE=DATE:20241220
SUMMARY:Ausschreibung — Neubau eines Feuerwehrhauses - Freianlagen
DESCRIPTION:Phase: Ausschreibung | Beschreibung: Offizielle Ausschreibung mit Bieterfrist. | Link: https://ausschreibungsradar.com/ausschreibung/ff27a7f8-14e3-4845-aada-4c30534a6ab7/
URL:https://ausschreibungsradar.com/ausschreibung/ff27a7f8-14e3-4845-aada-4c30534a6ab7/
END:VEVENT
END:VCALENDAR
