BEGIN:VCALENDAR
VERSION:2.0
PRODID:-//AusschreibungsRadar//Timeline//DE
CALSCALE:GREGORIAN
METHOD:PUBLISH
X-WR-CALNAME:Projekt Oberer Brühl Kindertagesstätte - Erdungsanlage
X-WR-TIMEZONE:Europe/Berlin
BEGIN:VEVENT
UID:3b7c65f367960c22@ausschreibungsradar.com
DTSTAMP:20260425T012820Z
DTSTART;VALUE=DATE:20250725
DTEND;VALUE=DATE:20250725
SUMMARY:Ausschreibung — Oberer Brühl Kindertagesstätte - Erdungsanlage
DESCRIPTION:Phase: Ausschreibung | Beschreibung: Offizielle Ausschreibung mit Bieterfrist. | Link: https://ausschreibungsradar.com/ausschreibung/92976dc5-e285-4fc7-b371-0841091b150c/
URL:https://ausschreibungsradar.com/ausschreibung/92976dc5-e285-4fc7-b371-0841091b150c/
END:VEVENT
BEGIN:VEVENT
UID:dd57189b68f11ab6@ausschreibungsradar.com
DTSTAMP:20260425T012820Z
DTSTART;VALUE=DATE:20250904
DTEND;VALUE=DATE:20250904
SUMMARY:Angebotsfrist — Oberer Brühl Kindertagesstätte - Erdungsanlage
DESCRIPTION:Phase: Ausschreibung | Beschreibung: Angebote werden eingeholt | Link: https://ausschreibungsradar.com/ausschreibung/357d4d62-5b7c-4fe8-8a24-dabe86c14092/
URL:https://ausschreibungsradar.com/ausschreibung/357d4d62-5b7c-4fe8-8a24-dabe86c14092/
END:VEVENT
BEGIN:VEVENT
UID:b675d3155b98c0dd@ausschreibungsradar.com
DTSTAMP:20260425T012820Z
DTSTART;VALUE=DATE:20251028
DTEND;VALUE=DATE:20251028
SUMMARY:Vergabeergebnis — Oberer Brühl Kindertagesstätte - Erdungsanlage
DESCRIPTION:Phase: Vergabeergebnis | Beschreibung: Auftrag wurde zugeschlagen | Link: https://ausschreibungsradar.com/ausschreibung/a7048c1f-6937-4c8b-8f8d-88e6c8236c41/
URL:https://ausschreibungsradar.com/ausschreibung/a7048c1f-6937-4c8b-8f8d-88e6c8236c41/
END:VEVENT
END:VCALENDAR
