BEGIN:VCALENDAR
VERSION:2.0
PRODID:-//AusschreibungsRadar//Timeline//DE
CALSCALE:GREGORIAN
METHOD:PUBLISH
X-WR-CALNAME:Projekt Gemeinde Rust - Umbau und Erweiterung Feuerwehrgerätehaus - 
X-WR-TIMEZONE:Europe/Berlin
BEGIN:VEVENT
UID:36f7105ed89927ff@ausschreibungsradar.com
DTSTAMP:20260426T033302Z
DTSTART;VALUE=DATE:20251219
DTEND;VALUE=DATE:20251219
SUMMARY:Ausschreibung — Gemeinde Rust - Umbau und Erweiterung Feuerwehrgerätehaus - 
DESCRIPTION:Phase: Ausschreibung | Beschreibung: Angebote werden eingeholt | Link: https://ausschreibungsradar.com/ausschreibung/797d5a55-53ba-472d-81cd-7d14d3128b55/
URL:https://ausschreibungsradar.com/ausschreibung/797d5a55-53ba-472d-81cd-7d14d3128b55/
END:VEVENT
BEGIN:VEVENT
UID:c63004038d1c8944@ausschreibungsradar.com
DTSTAMP:20260426T033302Z
DTSTART;VALUE=DATE:20260304
DTEND;VALUE=DATE:20260304
SUMMARY:Vergabeergebnis — Gemeinde Rust - Umbau und Erweiterung Feuerwehrgerätehaus - 
DESCRIPTION:Phase: Vergabeergebnis | Beschreibung: Auftrag wurde zugeschlagen | Link: https://ausschreibungsradar.com/ausschreibung/35adb71f-f1a2-4db5-9205-61d8d86f5564/
URL:https://ausschreibungsradar.com/ausschreibung/35adb71f-f1a2-4db5-9205-61d8d86f5564/
END:VEVENT
BEGIN:VEVENT
UID:db528054c7efcec5@ausschreibungsradar.com
DTSTAMP:20260426T033302Z
DTSTART;VALUE=DATE:20260304
DTEND;VALUE=DATE:20260304
SUMMARY:Zuschlag — Gemeinde Rust - Umbau und Erweiterung Feuerwehrgerätehaus - 
DESCRIPTION:Phase: Zuschlag | Beschreibung: Vergabeergebnis — Auftrag wurde erteilt oder Verfahren beendet. | Link: https://ausschreibungsradar.com/ausschreibung/ed265942-f85e-437a-ae00-63509ee8773f/
URL:https://ausschreibungsradar.com/ausschreibung/ed265942-f85e-437a-ae00-63509ee8773f/
END:VEVENT
END:VCALENDAR
