BEGIN:VCALENDAR
VERSION:2.0
PRODID:-//AusschreibungsRadar//Timeline//DE
CALSCALE:GREGORIAN
METHOD:PUBLISH
X-WR-CALNAME:Projekt 24-100 | Sanierung und Umbau Altes Rathaus - Ehem. Feuerwehr
X-WR-TIMEZONE:Europe/Berlin
BEGIN:VEVENT
UID:9f87db61f32e9840@ausschreibungsradar.com
DTSTAMP:20260426T023414Z
DTSTART;VALUE=DATE:20250216
DTEND;VALUE=DATE:20250216
SUMMARY:Ausschreibung — 24-100 | Sanierung und Umbau Altes Rathaus - Ehem. Feuerwehr
DESCRIPTION:Phase: Ausschreibung | Beschreibung: Angebote werden eingeholt | Link: https://ausschreibungsradar.com/ausschreibung/5a62998b-87d1-4351-8b1f-0051f214fad0/
URL:https://ausschreibungsradar.com/ausschreibung/5a62998b-87d1-4351-8b1f-0051f214fad0/
END:VEVENT
BEGIN:VEVENT
UID:423bd8cdde4f669a@ausschreibungsradar.com
DTSTAMP:20260426T023414Z
DTSTART;VALUE=DATE:20250813
DTEND;VALUE=DATE:20250813
SUMMARY:Vergabeergebnis — 24-100 | Sanierung und Umbau Altes Rathaus - Ehem. Feuerwehr
DESCRIPTION:Phase: Vergabeergebnis | Beschreibung: Auftrag wurde zugeschlagen | Link: https://ausschreibungsradar.com/ausschreibung/35de0f5a-d1b0-43e3-96e1-510d8b9b9558/
URL:https://ausschreibungsradar.com/ausschreibung/35de0f5a-d1b0-43e3-96e1-510d8b9b9558/
END:VEVENT
BEGIN:VEVENT
UID:86f92fd9b4eafd34@ausschreibungsradar.com
DTSTAMP:20260426T023414Z
DTSTART;VALUE=DATE:20250813
DTEND;VALUE=DATE:20250813
SUMMARY:Zuschlag — 24-100 | Sanierung und Umbau Altes Rathaus - Ehem. Feuerwehr
DESCRIPTION:Phase: Zuschlag | Beschreibung: Vergabeergebnis — Auftrag wurde erteilt oder Verfahren beendet. | Link: https://ausschreibungsradar.com/ausschreibung/a3a84461-3d45-4d6c-a4f9-81cdd6fa2712/
URL:https://ausschreibungsradar.com/ausschreibung/a3a84461-3d45-4d6c-a4f9-81cdd6fa2712/
END:VEVENT
END:VCALENDAR
