BEGIN:VCALENDAR
VERSION:2.0
PRODID:-//AusschreibungsRadar//Timeline//DE
CALSCALE:GREGORIAN
METHOD:PUBLISH
X-WR-CALNAME:Projekt Lieferung einer Forstmaschine für das Forstamt Adenau - Verg
X-WR-TIMEZONE:Europe/Berlin
BEGIN:VEVENT
UID:8ee18df29e396767@ausschreibungsradar.com
DTSTAMP:20260424T211152Z
DTSTART;VALUE=DATE:20240226
DTEND;VALUE=DATE:20240226
SUMMARY:Angebotsfrist — Lieferung einer Forstmaschine für das Forstamt Adenau - Verg
DESCRIPTION:Phase: Ausschreibung | Beschreibung: Angebote werden eingeholt | Link: https://ausschreibungsradar.com/ausschreibung/360c44b4-cc43-4da3-b459-691039d985bf/
URL:https://ausschreibungsradar.com/ausschreibung/360c44b4-cc43-4da3-b459-691039d985bf/
END:VEVENT
BEGIN:VEVENT
UID:cf28efdfeb85a7af@ausschreibungsradar.com
DTSTAMP:20260424T211152Z
DTSTART;VALUE=DATE:20240215
DTEND;VALUE=DATE:20240215
SUMMARY:Zuschlag — Lieferung einer Forstmaschine für das Forstamt Adenau - Verg
DESCRIPTION:Phase: Zuschlag | Beschreibung: Vergabeergebnis — Auftrag wurde erteilt oder Verfahren beendet. | Link: https://ausschreibungsradar.com/ausschreibung/7ee73cf4-171e-4b60-940d-472201165322/
URL:https://ausschreibungsradar.com/ausschreibung/7ee73cf4-171e-4b60-940d-472201165322/
END:VEVENT
BEGIN:VEVENT
UID:ced775954658a4de@ausschreibungsradar.com
DTSTAMP:20260424T211152Z
DTSTART;VALUE=DATE:20240411
DTEND;VALUE=DATE:20240411
SUMMARY:Vergabeergebnis — Lieferung einer Forstmaschine für das Forstamt Adenau - Verg
DESCRIPTION:Phase: Vergabeergebnis | Beschreibung: Auftrag wurde zugeschlagen | Link: https://ausschreibungsradar.com/ausschreibung/6edb3faf-1f65-4234-bbf5-9a9ab37cf0bf/
URL:https://ausschreibungsradar.com/ausschreibung/6edb3faf-1f65-4234-bbf5-9a9ab37cf0bf/
END:VEVENT
END:VCALENDAR
