BEGIN:VCALENDAR
VERSION:2.0
PRODID:-//AusschreibungsRadar//Timeline//DE
CALSCALE:GREGORIAN
METHOD:PUBLISH
X-WR-CALNAME:Projekt 04-ASN/2025 - LV-04 Erdarbeiten, Herstellung einer Bereitste
X-WR-TIMEZONE:Europe/Berlin
BEGIN:VEVENT
UID:14c879ab59831501@ausschreibungsradar.com
DTSTAMP:20260424T233225Z
DTSTART;VALUE=DATE:20250506
DTEND;VALUE=DATE:20250506
SUMMARY:Ausschreibung — 04-ASN/2025 - LV-04 Erdarbeiten\, Herstellung einer Bereitste
DESCRIPTION:Phase: Ausschreibung | Beschreibung: Angebote werden eingeholt | Link: https://ausschreibungsradar.com/ausschreibung/66140502-8332-4783-bc2d-f54883c1d010/
URL:https://ausschreibungsradar.com/ausschreibung/66140502-8332-4783-bc2d-f54883c1d010/
END:VEVENT
BEGIN:VEVENT
UID:e7599ca190a33faa@ausschreibungsradar.com
DTSTAMP:20260424T233225Z
DTSTART;VALUE=DATE:20250829
DTEND;VALUE=DATE:20250829
SUMMARY:Vergabeergebnis — 04-ASN/2025 - LV-04 Erdarbeiten\, Herstellung einer Bereitste
DESCRIPTION:Phase: Vergabeergebnis | Beschreibung: Auftrag wurde zugeschlagen | Link: https://ausschreibungsradar.com/ausschreibung/363810f5-2032-421e-ae48-d36500380149/
URL:https://ausschreibungsradar.com/ausschreibung/363810f5-2032-421e-ae48-d36500380149/
END:VEVENT
END:VCALENDAR
