BEGIN:VCALENDAR
VERSION:2.0
PRODID:-//AusschreibungsRadar//Timeline//DE
CALSCALE:GREGORIAN
METHOD:PUBLISH
X-WR-CALNAME:Projekt Neubau des Mobilitätszentrums UrbanLand (MZL) Holzfassade
X-WR-TIMEZONE:Europe/Berlin
BEGIN:VEVENT
UID:3f9db796452895cb@ausschreibungsradar.com
DTSTAMP:20260423T220559Z
DTSTART;VALUE=DATE:20251118
DTEND;VALUE=DATE:20251118
SUMMARY:Angebotsfrist — Neubau des Mobilitätszentrums UrbanLand (MZL) Holzfassade
DESCRIPTION:Phase: Ausschreibung | Beschreibung: Angebote werden eingeholt | Link: https://ausschreibungsradar.com/ausschreibung/dc888aec-b52b-48c4-9b9b-3ac416529c9b/
URL:https://ausschreibungsradar.com/ausschreibung/dc888aec-b52b-48c4-9b9b-3ac416529c9b/
END:VEVENT
BEGIN:VEVENT
UID:443b109c4842bf40@ausschreibungsradar.com
DTSTAMP:20260423T220559Z
DTSTART;VALUE=DATE:20260209
DTEND;VALUE=DATE:20260209
SUMMARY:Vergabeergebnis — Neubau des Mobilitätszentrums UrbanLand (MZL) Holzfassade
DESCRIPTION:Phase: Vergabeergebnis | Beschreibung: Auftrag wurde zugeschlagen | Link: https://ausschreibungsradar.com/ausschreibung/3667a509-cd03-4bb3-b199-2f77f6e870e3/
URL:https://ausschreibungsradar.com/ausschreibung/3667a509-cd03-4bb3-b199-2f77f6e870e3/
END:VEVENT
BEGIN:VEVENT
UID:0e94353ec341c5c7@ausschreibungsradar.com
DTSTAMP:20260423T220559Z
DTSTART;VALUE=DATE:20260220
DTEND;VALUE=DATE:20260220
SUMMARY:Zuschlag — Neubau des Mobilitätszentrums UrbanLand (MZL) Holzfassade
DESCRIPTION:Phase: Zuschlag | Beschreibung: Vergabeergebnis — Auftrag wurde erteilt oder Verfahren beendet. | Link: https://ausschreibungsradar.com/ausschreibung/0f0564f2-ce17-4095-a52a-988acb3d6605/
URL:https://ausschreibungsradar.com/ausschreibung/0f0564f2-ce17-4095-a52a-988acb3d6605/
END:VEVENT
BEGIN:VEVENT
UID:91739f16c59a22e4@ausschreibungsradar.com
DTSTAMP:20260423T220559Z
DTSTART;VALUE=DATE:20260305
DTEND;VALUE=DATE:20260305
SUMMARY:Zuschlag — Neubau des Mobilitätszentrums UrbanLand (MZL) Holzfassade
DESCRIPTION:Phase: Zuschlag | Beschreibung: Vergabeergebnis — Auftrag wurde erteilt oder Verfahren beendet. | Link: https://ausschreibungsradar.com/ausschreibung/fbe1ed3d-215b-4b87-9c98-56bc8786f35d/
URL:https://ausschreibungsradar.com/ausschreibung/fbe1ed3d-215b-4b87-9c98-56bc8786f35d/
END:VEVENT
END:VCALENDAR
