BEGIN:VCALENDAR
VERSION:2.0
PRODID:-//AusschreibungsRadar//Timeline//DE
CALSCALE:GREGORIAN
METHOD:PUBLISH
X-WR-CALNAME:Projekt Umbau ehemaliges Krankenhaus zu Wohnungen in Oberstaufen
X-WR-TIMEZONE:Europe/Berlin
BEGIN:VEVENT
UID:ac809edf56ac52d5@ausschreibungsradar.com
DTSTAMP:20260424T071113Z
DTSTART;VALUE=DATE:20240410
DTEND;VALUE=DATE:20240410
SUMMARY:Zuschlag — Umbau ehemaliges Krankenhaus zu Wohnungen in Oberstaufen
DESCRIPTION:Phase: Zuschlag | Beschreibung: Vergabeergebnis — Auftrag wurde erteilt oder Verfahren beendet. | Link: https://ausschreibungsradar.com/ausschreibung/368c4477-4ccc-4331-bc2c-c43e19b27ae8/
URL:https://ausschreibungsradar.com/ausschreibung/368c4477-4ccc-4331-bc2c-c43e19b27ae8/
END:VEVENT
BEGIN:VEVENT
UID:c38f74d4e55e05f6@ausschreibungsradar.com
DTSTAMP:20260424T071113Z
DTSTART;VALUE=DATE:20240410
DTEND;VALUE=DATE:20240410
SUMMARY:Zuschlag — Umbau ehemaliges Krankenhaus zu Wohnungen in Oberstaufen
DESCRIPTION:Phase: Zuschlag | Beschreibung: Vergabeergebnis — Auftrag wurde erteilt oder Verfahren beendet. | Link: https://ausschreibungsradar.com/ausschreibung/8daa5583-a2ff-40dc-90e5-11ed00cda5a2/
URL:https://ausschreibungsradar.com/ausschreibung/8daa5583-a2ff-40dc-90e5-11ed00cda5a2/
END:VEVENT
END:VCALENDAR
