BEGIN:VCALENDAR
VERSION:2.0
PRODID:-//AusschreibungsRadar//Timeline//DE
CALSCALE:GREGORIAN
METHOD:PUBLISH
X-WR-CALNAME:Projekt Neubau Verwaltungsgebäude "Neue Mitte" Wittenburg
X-WR-TIMEZONE:Europe/Berlin
BEGIN:VEVENT
UID:a7a775b8a356453e@ausschreibungsradar.com
DTSTAMP:20260425T003743Z
DTSTART;VALUE=DATE:20371231
DTEND;VALUE=DATE:20371231
SUMMARY:Angebotsfrist — Neubau Verwaltungsgebäude "Neue Mitte" Wittenburg
DESCRIPTION:Phase: Ausschreibung | Beschreibung: Angebote werden eingeholt | Link: https://ausschreibungsradar.com/ausschreibung/37011dba-12be-46e6-9749-40f903dc99eb/
URL:https://ausschreibungsradar.com/ausschreibung/37011dba-12be-46e6-9749-40f903dc99eb/
END:VEVENT
BEGIN:VEVENT
UID:473dbbbcad8a3677@ausschreibungsradar.com
DTSTAMP:20260425T003743Z
DTSTART;VALUE=DATE:20250829
DTEND;VALUE=DATE:20250829
SUMMARY:Ausschreibung — Neubau Verwaltungsgebäude "Neue Mitte" Wittenburg
DESCRIPTION:Phase: Ausschreibung | Beschreibung: Offizielle Ausschreibung mit Bieterfrist. | Link: https://ausschreibungsradar.com/ausschreibung/934fd32f-4fc7-4cf7-a753-11e1a4c164ab/
URL:https://ausschreibungsradar.com/ausschreibung/934fd32f-4fc7-4cf7-a753-11e1a4c164ab/
END:VEVENT
END:VCALENDAR
