BEGIN:VCALENDAR
VERSION:2.0
PRODID:-//AusschreibungsRadar//Timeline//DE
CALSCALE:GREGORIAN
METHOD:PUBLISH
X-WR-CALNAME:Projekt Rahmenvertrag Dolmetscherleistungen für das Gesundheitsamt d
X-WR-TIMEZONE:Europe/Berlin
BEGIN:VEVENT
UID:e197b3866e8be4a7@ausschreibungsradar.com
DTSTAMP:20260425T113418Z
DTSTART;VALUE=DATE:20241028
DTEND;VALUE=DATE:20241028
SUMMARY:Angebotsfrist — Rahmenvertrag Dolmetscherleistungen für das Gesundheitsamt d
DESCRIPTION:Phase: Ausschreibung | Beschreibung: Angebote werden eingeholt | Link: https://ausschreibungsradar.com/ausschreibung/144939df-69be-440d-8d2d-2c0757345e78/
URL:https://ausschreibungsradar.com/ausschreibung/144939df-69be-440d-8d2d-2c0757345e78/
END:VEVENT
BEGIN:VEVENT
UID:136cad92de5a49ee@ausschreibungsradar.com
DTSTAMP:20260425T113418Z
DTSTART;VALUE=DATE:20250107
DTEND;VALUE=DATE:20250107
SUMMARY:Vergabeergebnis — Rahmenvertrag Dolmetscherleistungen für das Gesundheitsamt d
DESCRIPTION:Phase: Vergabeergebnis | Beschreibung: Auftrag wurde zugeschlagen | Link: https://ausschreibungsradar.com/ausschreibung/378e7bc1-29de-4406-bca8-cc776a8ebc34/ | Geschätzter Wert: 414000 €
URL:https://ausschreibungsradar.com/ausschreibung/378e7bc1-29de-4406-bca8-cc776a8ebc34/
END:VEVENT
END:VCALENDAR
