BEGIN:VCALENDAR
VERSION:2.0
PRODID:-//AusschreibungsRadar//Timeline//DE
CALSCALE:GREGORIAN
METHOD:PUBLISH
X-WR-CALNAME:Projekt Ökostromlieferung an die Stadt Beckum 2026 ff.
X-WR-TIMEZONE:Europe/Berlin
BEGIN:VEVENT
UID:06761c1566331036@ausschreibungsradar.com
DTSTAMP:20260425T151818Z
DTSTART;VALUE=DATE:20250902
DTEND;VALUE=DATE:20250902
SUMMARY:Angebotsfrist — Ökostromlieferung an die Stadt Beckum 2026 ff.
DESCRIPTION:Phase: Ausschreibung | Beschreibung: Angebote werden eingeholt | Link: https://ausschreibungsradar.com/ausschreibung/37e93967-c773-448d-bc99-404057b012e1/
URL:https://ausschreibungsradar.com/ausschreibung/37e93967-c773-448d-bc99-404057b012e1/
END:VEVENT
END:VCALENDAR
