BEGIN:VCALENDAR
VERSION:2.0
PRODID:-//AusschreibungsRadar//Timeline//DE
CALSCALE:GREGORIAN
METHOD:PUBLISH
X-WR-CALNAME:Projekt Ertüchtigung der Kläranlage Haag i. OB - Räumeinrichtung
X-WR-TIMEZONE:Europe/Berlin
BEGIN:VEVENT
UID:15ecdf1bf1b480d5@ausschreibungsradar.com
DTSTAMP:20260424T122445Z
DTSTART;VALUE=DATE:20260224
DTEND;VALUE=DATE:20260224
SUMMARY:Angebotsfrist — Ertüchtigung der Kläranlage Haag i. OB - Räumeinrichtung
DESCRIPTION:Phase: Ausschreibung | Beschreibung: Angebote werden eingeholt | Link: https://ausschreibungsradar.com/ausschreibung/380fe8f4-a8a5-452a-b275-2d7418ea39c1/
URL:https://ausschreibungsradar.com/ausschreibung/380fe8f4-a8a5-452a-b275-2d7418ea39c1/
END:VEVENT
BEGIN:VEVENT
UID:a91a543777019dcf@ausschreibungsradar.com
DTSTAMP:20260424T122445Z
DTSTART;VALUE=DATE:20260115
DTEND;VALUE=DATE:20260115
SUMMARY:Ausschreibung — Ertüchtigung der Kläranlage Haag i. OB - Räumeinrichtung
DESCRIPTION:Phase: Ausschreibung | Beschreibung: Offizielle Ausschreibung mit Bieterfrist. | Link: https://ausschreibungsradar.com/ausschreibung/a1054f96-5ca2-4a34-b680-9b8290bf55ec/
URL:https://ausschreibungsradar.com/ausschreibung/a1054f96-5ca2-4a34-b680-9b8290bf55ec/
END:VEVENT
BEGIN:VEVENT
UID:8cc07d21b98ee5a1@ausschreibungsradar.com
DTSTAMP:20260424T122445Z
DTSTART;VALUE=DATE:20260115
DTEND;VALUE=DATE:20260115
SUMMARY:Ausschreibung — Ertüchtigung der Kläranlage Haag i. OB - Räumeinrichtung
DESCRIPTION:Phase: Ausschreibung | Beschreibung: Offizielle Ausschreibung mit Bieterfrist. | Link: https://ausschreibungsradar.com/ausschreibung/3082878b-f00a-4ac7-95c2-8bb59289f50e/
URL:https://ausschreibungsradar.com/ausschreibung/3082878b-f00a-4ac7-95c2-8bb59289f50e/
END:VEVENT
BEGIN:VEVENT
UID:b8cdc11f1907158f@ausschreibungsradar.com
DTSTAMP:20260424T122445Z
DTSTART;VALUE=DATE:20260115
DTEND;VALUE=DATE:20260115
SUMMARY:Ausschreibung — Ertüchtigung der Kläranlage Haag i. OB - Räumeinrichtung
DESCRIPTION:Phase: Ausschreibung | Beschreibung: Offizielle Ausschreibung mit Bieterfrist. | Link: https://ausschreibungsradar.com/ausschreibung/924d68b6-0552-4658-9c2f-f778071afd6b/
URL:https://ausschreibungsradar.com/ausschreibung/924d68b6-0552-4658-9c2f-f778071afd6b/
END:VEVENT
BEGIN:VEVENT
UID:1c874d4b75b8c460@ausschreibungsradar.com
DTSTAMP:20260424T122445Z
DTSTART;VALUE=DATE:20260115
DTEND;VALUE=DATE:20260115
SUMMARY:Ausschreibung — Ertüchtigung der Kläranlage Haag i. OB - Räumeinrichtung
DESCRIPTION:Phase: Ausschreibung | Beschreibung: Offizielle Ausschreibung mit Bieterfrist. | Link: https://ausschreibungsradar.com/ausschreibung/94c17fd6-b2f8-4a9a-92c4-f6fbaefff785/
URL:https://ausschreibungsradar.com/ausschreibung/94c17fd6-b2f8-4a9a-92c4-f6fbaefff785/
END:VEVENT
BEGIN:VEVENT
UID:e68cf7b2c387c94a@ausschreibungsradar.com
DTSTAMP:20260424T122445Z
DTSTART;VALUE=DATE:20260115
DTEND;VALUE=DATE:20260115
SUMMARY:Ausschreibung — Ertüchtigung der Kläranlage Haag i. OB - Räumeinrichtung
DESCRIPTION:Phase: Ausschreibung | Beschreibung: Offizielle Ausschreibung mit Bieterfrist. | Link: https://ausschreibungsradar.com/ausschreibung/e7108a14-17f8-4b16-af1e-9af762638d7d/
URL:https://ausschreibungsradar.com/ausschreibung/e7108a14-17f8-4b16-af1e-9af762638d7d/
END:VEVENT
END:VCALENDAR
