BEGIN:VCALENDAR
VERSION:2.0
PRODID:-//AusschreibungsRadar//Timeline//DE
CALSCALE:GREGORIAN
METHOD:PUBLISH
X-WR-CALNAME:Projekt Garten- und Landschaftsbaurbeiten
X-WR-TIMEZONE:Europe/Berlin
BEGIN:VEVENT
UID:e33256eec91cb712@ausschreibungsradar.com
DTSTAMP:20260424T083936Z
DTSTART;VALUE=DATE:20250325
DTEND;VALUE=DATE:20250325
SUMMARY:Angebotsfrist — Garten- und Landschaftsbaurbeiten
DESCRIPTION:Phase: Ausschreibung | Beschreibung: Angebote werden eingeholt | Link: https://ausschreibungsradar.com/ausschreibung/3840553f-92fc-435a-ae2a-85d0c1a00766/
URL:https://ausschreibungsradar.com/ausschreibung/3840553f-92fc-435a-ae2a-85d0c1a00766/
END:VEVENT
BEGIN:VEVENT
UID:6085766541f768d9@ausschreibungsradar.com
DTSTAMP:20260424T083936Z
DTSTART;VALUE=DATE:20250225
DTEND;VALUE=DATE:20250225
SUMMARY:Ausschreibung — Garten- und Landschaftsbaurbeiten
DESCRIPTION:Phase: Ausschreibung | Beschreibung: Offizielle Ausschreibung mit Bieterfrist. | Link: https://ausschreibungsradar.com/ausschreibung/c6c05b2c-d8f4-452a-a5d9-d0eba821e28a/
URL:https://ausschreibungsradar.com/ausschreibung/c6c05b2c-d8f4-452a-a5d9-d0eba821e28a/
END:VEVENT
END:VCALENDAR
