BEGIN:VCALENDAR
VERSION:2.0
PRODID:-//AusschreibungsRadar//Timeline//DE
CALSCALE:GREGORIAN
METHOD:PUBLISH
X-WR-CALNAME:Projekt Um- und Erweiterungsbau Gymnasium Bad Doberan
X-WR-TIMEZONE:Europe/Berlin
BEGIN:VEVENT
UID:d26bd53f897969f4@ausschreibungsradar.com
DTSTAMP:20260426T034721Z
DTSTART;VALUE=DATE:20251118
DTEND;VALUE=DATE:20251118
SUMMARY:Angebotsfrist — Um- und Erweiterungsbau Gymnasium Bad Doberan
DESCRIPTION:Phase: Ausschreibung | Beschreibung: Angebote werden eingeholt | Link: https://ausschreibungsradar.com/ausschreibung/f0960688-aaad-4a64-9244-0dd797c5816b/
URL:https://ausschreibungsradar.com/ausschreibung/f0960688-aaad-4a64-9244-0dd797c5816b/
END:VEVENT
BEGIN:VEVENT
UID:d48714d17a6a66d4@ausschreibungsradar.com
DTSTAMP:20260426T034721Z
DTSTART;VALUE=DATE:20260109
DTEND;VALUE=DATE:20260109
SUMMARY:Vergabeergebnis — Um- und Erweiterungsbau Gymnasium Bad Doberan
DESCRIPTION:Phase: Vergabeergebnis | Beschreibung: Auftrag wurde zugeschlagen | Link: https://ausschreibungsradar.com/ausschreibung/387d4f46-a953-43d6-bb96-cb0db9f2a258/
URL:https://ausschreibungsradar.com/ausschreibung/387d4f46-a953-43d6-bb96-cb0db9f2a258/
END:VEVENT
BEGIN:VEVENT
UID:30f6a1e47047c09f@ausschreibungsradar.com
DTSTAMP:20260426T034721Z
DTSTART;VALUE=DATE:20260109
DTEND;VALUE=DATE:20260109
SUMMARY:Ausschreibung — Um- und Erweiterungsbau Gymnasium Bad Doberan
DESCRIPTION:Phase: Ausschreibung | Beschreibung: Offizielle Ausschreibung mit Bieterfrist. | Link: https://ausschreibungsradar.com/ausschreibung/24847576/
URL:https://ausschreibungsradar.com/ausschreibung/24847576/
END:VEVENT
BEGIN:VEVENT
UID:1052f8c9aea86cea@ausschreibungsradar.com
DTSTAMP:20260426T034721Z
DTSTART;VALUE=DATE:20260109
DTEND;VALUE=DATE:20260109
SUMMARY:Zuschlag — Um- und Erweiterungsbau Gymnasium Bad Doberan
DESCRIPTION:Phase: Zuschlag | Beschreibung: Vergabeergebnis — Auftrag wurde erteilt oder Verfahren beendet. | Link: https://ausschreibungsradar.com/ausschreibung/deaed4f0-0c34-43d3-8548-9c590b2b7801/
URL:https://ausschreibungsradar.com/ausschreibung/deaed4f0-0c34-43d3-8548-9c590b2b7801/
END:VEVENT
END:VCALENDAR
