BEGIN:VCALENDAR
VERSION:2.0
PRODID:-//AusschreibungsRadar//Timeline//DE
CALSCALE:GREGORIAN
METHOD:PUBLISH
X-WR-CALNAME:Projekt Immanuel-Kant-Schule - Umsetzung des Schulentwicklungsplans 
X-WR-TIMEZONE:Europe/Berlin
BEGIN:VEVENT
UID:73047d4971da8703@ausschreibungsradar.com
DTSTAMP:20260425T194204Z
DTSTART;VALUE=DATE:20240215
DTEND;VALUE=DATE:20240215
SUMMARY:Ausschreibung — Immanuel-Kant-Schule - Umsetzung des Schulentwicklungsplans 
DESCRIPTION:Phase: Ausschreibung | Beschreibung: Angebote werden eingeholt | Link: https://ausschreibungsradar.com/ausschreibung/91a6861f-df87-4d10-9431-10b2353e4f59/
URL:https://ausschreibungsradar.com/ausschreibung/91a6861f-df87-4d10-9431-10b2353e4f59/
END:VEVENT
BEGIN:VEVENT
UID:7374c0f7257988a4@ausschreibungsradar.com
DTSTAMP:20260425T194204Z
DTSTART;VALUE=DATE:20241118
DTEND;VALUE=DATE:20241118
SUMMARY:Vergabeergebnis — Immanuel-Kant-Schule - Umsetzung des Schulentwicklungsplans 
DESCRIPTION:Phase: Vergabeergebnis | Beschreibung: Auftrag wurde zugeschlagen | Link: https://ausschreibungsradar.com/ausschreibung/38a7eb64-265c-4e8f-937b-713500e7cded/
URL:https://ausschreibungsradar.com/ausschreibung/38a7eb64-265c-4e8f-937b-713500e7cded/
END:VEVENT
BEGIN:VEVENT
UID:1e726f3358d1c05f@ausschreibungsradar.com
DTSTAMP:20260425T194204Z
DTSTART;VALUE=DATE:20241118
DTEND;VALUE=DATE:20241118
SUMMARY:Zuschlag — Immanuel-Kant-Schule - Umsetzung des Schulentwicklungsplans 
DESCRIPTION:Phase: Zuschlag | Beschreibung: Vergabeergebnis — Auftrag wurde erteilt oder Verfahren beendet. | Link: https://ausschreibungsradar.com/ausschreibung/c84b7cfc-f5b6-49d4-a55d-817f787e10f3/
URL:https://ausschreibungsradar.com/ausschreibung/c84b7cfc-f5b6-49d4-a55d-817f787e10f3/
END:VEVENT
END:VCALENDAR
