BEGIN:VCALENDAR
VERSION:2.0
PRODID:-//AusschreibungsRadar//Timeline//DE
CALSCALE:GREGORIAN
METHOD:PUBLISH
X-WR-CALNAME:Projekt Sanierung Matthias-Grünewald-Gymnasium TBB
X-WR-TIMEZONE:Europe/Berlin
BEGIN:VEVENT
UID:a445ad975fd7cacc@ausschreibungsradar.com
DTSTAMP:20260425T184721Z
DTSTART;VALUE=DATE:20240219
DTEND;VALUE=DATE:20240219
SUMMARY:Angebotsfrist — Sanierung Matthias-Grünewald-Gymnasium TBB
DESCRIPTION:Phase: Ausschreibung | Beschreibung: Angebote werden eingeholt | Link: https://ausschreibungsradar.com/ausschreibung/38c2aa44-6478-46dd-b0b7-1b9e4766eb19/ | Geschätzter Wert: 950000 €
URL:https://ausschreibungsradar.com/ausschreibung/38c2aa44-6478-46dd-b0b7-1b9e4766eb19/
END:VEVENT
END:VCALENDAR
