BEGIN:VCALENDAR
VERSION:2.0
PRODID:-//AusschreibungsRadar//Timeline//DE
CALSCALE:GREGORIAN
METHOD:PUBLISH
X-WR-CALNAME:Projekt BTU Cottbus-Senftenberg, Campus Sachsendorf, Sanierung Geb. 
X-WR-TIMEZONE:Europe/Berlin
BEGIN:VEVENT
UID:c4d84205920dbe3f@ausschreibungsradar.com
DTSTAMP:20260425T134914Z
DTSTART;VALUE=DATE:20240409
DTEND;VALUE=DATE:20240409
SUMMARY:Angebotsfrist — BTU Cottbus-Senftenberg\, Campus Sachsendorf\, Sanierung Geb. 
DESCRIPTION:Phase: Ausschreibung | Beschreibung: Angebote werden eingeholt | Link: https://ausschreibungsradar.com/ausschreibung/9e16c0bd-724a-4661-9f5d-d5b6c1642501/
URL:https://ausschreibungsradar.com/ausschreibung/9e16c0bd-724a-4661-9f5d-d5b6c1642501/
END:VEVENT
BEGIN:VEVENT
UID:aee79dfd59c66645@ausschreibungsradar.com
DTSTAMP:20260425T134914Z
DTSTART;VALUE=DATE:20240607
DTEND;VALUE=DATE:20240607
SUMMARY:Vergabeergebnis — BTU Cottbus-Senftenberg\, Campus Sachsendorf\, Sanierung Geb. 
DESCRIPTION:Phase: Vergabeergebnis | Beschreibung: Auftrag wurde zugeschlagen | Link: https://ausschreibungsradar.com/ausschreibung/38ca726a-7570-4df0-b230-9a0ba68c7e50/
URL:https://ausschreibungsradar.com/ausschreibung/38ca726a-7570-4df0-b230-9a0ba68c7e50/
END:VEVENT
BEGIN:VEVENT
UID:34ad0468b33035bb@ausschreibungsradar.com
DTSTAMP:20260425T134914Z
DTSTART;VALUE=DATE:20240610
DTEND;VALUE=DATE:20240610
SUMMARY:Zuschlag — BTU Cottbus-Senftenberg\, Campus Sachsendorf\, Sanierung Geb. 
DESCRIPTION:Phase: Zuschlag | Beschreibung: Vergabeergebnis — Auftrag wurde erteilt oder Verfahren beendet. | Link: https://ausschreibungsradar.com/ausschreibung/ted-340692-2024/
URL:https://ausschreibungsradar.com/ausschreibung/ted-340692-2024/
END:VEVENT
END:VCALENDAR
