BEGIN:VCALENDAR
VERSION:2.0
PRODID:-//AusschreibungsRadar//Timeline//DE
CALSCALE:GREGORIAN
METHOD:PUBLISH
X-WR-CALNAME:Projekt KN,Uni,(S),PV-Anlagen,2.Bauabschnitt

Universität Konstanz -
X-WR-TIMEZONE:Europe/Berlin
BEGIN:VEVENT
UID:101ef4bc8747c59d@ausschreibungsradar.com
DTSTAMP:20260425T143811Z
DTSTART;VALUE=DATE:20240926
DTEND;VALUE=DATE:20240926
SUMMARY:Angebotsfrist — KN\,Uni\,(S)\,PV-Anlagen\,2.Bauabschnitt\n\nUniversität Konstanz -
DESCRIPTION:Phase: Ausschreibung | Beschreibung: Angebote werden eingeholt | Link: https://ausschreibungsradar.com/ausschreibung/5a465d48-6120-4c34-a6a8-212b8e6158cd/ | Geschätzter Wert: 4800000 €
URL:https://ausschreibungsradar.com/ausschreibung/5a465d48-6120-4c34-a6a8-212b8e6158cd/
END:VEVENT
BEGIN:VEVENT
UID:40b91cd0dff3920f@ausschreibungsradar.com
DTSTAMP:20260425T143811Z
DTSTART;VALUE=DATE:20250108
DTEND;VALUE=DATE:20250108
SUMMARY:Vergabeergebnis — KN\,Uni\,(S)\,PV-Anlagen\,2.Bauabschnitt\n\nUniversität Konstanz -
DESCRIPTION:Phase: Vergabeergebnis | Beschreibung: Auftrag wurde zugeschlagen | Link: https://ausschreibungsradar.com/ausschreibung/39307214-d377-4ea5-afe3-688ce0ea288b/ | Geschätzter Wert: 4800000 €
URL:https://ausschreibungsradar.com/ausschreibung/39307214-d377-4ea5-afe3-688ce0ea288b/
END:VEVENT
END:VCALENDAR
