BEGIN:VCALENDAR
VERSION:2.0
PRODID:-//AusschreibungsRadar//Timeline//DE
CALSCALE:GREGORIAN
METHOD:PUBLISH
X-WR-CALNAME:Projekt Elektroinstallation
X-WR-TIMEZONE:Europe/Berlin
BEGIN:VEVENT
UID:0a1472565e02b249@ausschreibungsradar.com
DTSTAMP:20260424T082039Z
DTSTART;VALUE=DATE:20240820
DTEND;VALUE=DATE:20240820
SUMMARY:Angebotsfrist — Elektroinstallation
DESCRIPTION:Phase: Ausschreibung | Beschreibung: Angebote werden eingeholt | Link: https://ausschreibungsradar.com/ausschreibung/3938c7cf-97d0-4c32-a956-ad6bf619cf4b/
URL:https://ausschreibungsradar.com/ausschreibung/3938c7cf-97d0-4c32-a956-ad6bf619cf4b/
END:VEVENT
BEGIN:VEVENT
UID:6c42b8ebf4011e25@ausschreibungsradar.com
DTSTAMP:20260424T082039Z
DTSTART;VALUE=DATE:20241009
DTEND;VALUE=DATE:20241009
SUMMARY:Vergabeergebnis — Elektroinstallation
DESCRIPTION:Phase: Vergabeergebnis | Beschreibung: Auftrag wurde zugeschlagen | Link: https://ausschreibungsradar.com/ausschreibung/d0b1795c-f048-40fb-b4ac-78ca87e119e2/
URL:https://ausschreibungsradar.com/ausschreibung/d0b1795c-f048-40fb-b4ac-78ca87e119e2/
END:VEVENT
END:VCALENDAR
