BEGIN:VCALENDAR
VERSION:2.0
PRODID:-//AusschreibungsRadar//Timeline//DE
CALSCALE:GREGORIAN
METHOD:PUBLISH
X-WR-CALNAME:Projekt Erweiterung im Zuge Ganztagsausbau
X-WR-TIMEZONE:Europe/Berlin
BEGIN:VEVENT
UID:61c313413ead4af2@ausschreibungsradar.com
DTSTAMP:20260424T120554Z
DTSTART;VALUE=DATE:20250914
DTEND;VALUE=DATE:20250914
SUMMARY:Ausschreibung — Erweiterung im Zuge Ganztagsausbau
DESCRIPTION:Phase: Ausschreibung | Beschreibung: Angebote werden eingeholt | Link: https://ausschreibungsradar.com/ausschreibung/3969e8c7-5712-47c8-a5ea-d467495c61c2/
URL:https://ausschreibungsradar.com/ausschreibung/3969e8c7-5712-47c8-a5ea-d467495c61c2/
END:VEVENT
BEGIN:VEVENT
UID:c9aba51f559701d4@ausschreibungsradar.com
DTSTAMP:20260424T120554Z
DTSTART;VALUE=DATE:20250914
DTEND;VALUE=DATE:20250914
SUMMARY:Ausschreibung — Erweiterung im Zuge Ganztagsausbau
DESCRIPTION:Phase: Ausschreibung | Beschreibung: Offizielle Ausschreibung mit Bieterfrist. | Link: https://ausschreibungsradar.com/ausschreibung/5a1936f6-4c16-48ac-bdde-8a4550928c19/
URL:https://ausschreibungsradar.com/ausschreibung/5a1936f6-4c16-48ac-bdde-8a4550928c19/
END:VEVENT
END:VCALENDAR
