BEGIN:VCALENDAR
VERSION:2.0
PRODID:-//AusschreibungsRadar//Timeline//DE
CALSCALE:GREGORIAN
METHOD:PUBLISH
X-WR-CALNAME:Projekt Innenputzarbeiten
X-WR-TIMEZONE:Europe/Berlin
BEGIN:VEVENT
UID:93c462097a76935a@ausschreibungsradar.com
DTSTAMP:20260424T054804Z
DTSTART;VALUE=DATE:20250108
DTEND;VALUE=DATE:20250108
SUMMARY:Angebotsfrist — Innenputzarbeiten
DESCRIPTION:Phase: Ausschreibung | Beschreibung: Angebote werden eingeholt | Link: https://ausschreibungsradar.com/ausschreibung/eaf41eae-a075-4545-9bd9-71c6e76259dd/
URL:https://ausschreibungsradar.com/ausschreibung/eaf41eae-a075-4545-9bd9-71c6e76259dd/
END:VEVENT
BEGIN:VEVENT
UID:c5275c0ccb7fd2f8@ausschreibungsradar.com
DTSTAMP:20260424T054804Z
DTSTART;VALUE=DATE:20250910
DTEND;VALUE=DATE:20250910
SUMMARY:Vergabeergebnis — Innenputzarbeiten
DESCRIPTION:Phase: Vergabeergebnis | Beschreibung: Auftrag wurde zugeschlagen | Link: https://ausschreibungsradar.com/ausschreibung/39844360-73a8-4bbb-87ae-852fe5af8d54/ | Auftragnehmer: Robert Stuckateur GmbH
URL:https://ausschreibungsradar.com/ausschreibung/39844360-73a8-4bbb-87ae-852fe5af8d54/
END:VEVENT
END:VCALENDAR
