BEGIN:VCALENDAR
VERSION:2.0
PRODID:-//AusschreibungsRadar//Timeline//DE
CALSCALE:GREGORIAN
METHOD:PUBLISH
X-WR-CALNAME:Projekt Lieferung: IT-Hardware
X-WR-TIMEZONE:Europe/Berlin
BEGIN:VEVENT
UID:cc335b444d17189c@ausschreibungsradar.com
DTSTAMP:20260425T152445Z
DTSTART;VALUE=DATE:20260126
DTEND;VALUE=DATE:20260126
SUMMARY:Angebotsfrist — Lieferung: IT-Hardware
DESCRIPTION:Phase: Ausschreibung | Beschreibung: Angebote werden eingeholt | Link: https://ausschreibungsradar.com/ausschreibung/398fcc0d-8b58-431f-a259-8333011c1faa/
URL:https://ausschreibungsradar.com/ausschreibung/398fcc0d-8b58-431f-a259-8333011c1faa/
END:VEVENT
BEGIN:VEVENT
UID:b418b265cc0c4b9c@ausschreibungsradar.com
DTSTAMP:20260425T152445Z
DTSTART;VALUE=DATE:20260226
DTEND;VALUE=DATE:20260226
SUMMARY:Vergabeergebnis — Lieferung: IT-Hardware
DESCRIPTION:Phase: Vergabeergebnis | Beschreibung: Keine Angebote eingegangen | Link: https://ausschreibungsradar.com/ausschreibung/07fe6468-6c75-4b41-a64d-dd9d438aea68/
URL:https://ausschreibungsradar.com/ausschreibung/07fe6468-6c75-4b41-a64d-dd9d438aea68/
END:VEVENT
END:VCALENDAR
