BEGIN:VCALENDAR
VERSION:2.0
PRODID:-//AusschreibungsRadar//Timeline//DE
CALSCALE:GREGORIAN
METHOD:PUBLISH
X-WR-CALNAME:Projekt Rahmenvereinbarung über die Durchführung chemisch-toxikologi
X-WR-TIMEZONE:Europe/Berlin
BEGIN:VEVENT
UID:8090f10d7a21f55a@ausschreibungsradar.com
DTSTAMP:20260424T004944Z
DTSTART;VALUE=DATE:20240319
DTEND;VALUE=DATE:20240319
SUMMARY:Angebotsfrist — Rahmenvereinbarung über die Durchführung chemisch-toxikologi
DESCRIPTION:Phase: Ausschreibung | Beschreibung: Angebote werden eingeholt | Link: https://ausschreibungsradar.com/ausschreibung/799f35e1-56bf-45b0-8157-cb670707b1cc/ | Geschätzter Wert: 460000 €
URL:https://ausschreibungsradar.com/ausschreibung/799f35e1-56bf-45b0-8157-cb670707b1cc/
END:VEVENT
BEGIN:VEVENT
UID:077b608e23892297@ausschreibungsradar.com
DTSTAMP:20260424T004944Z
DTSTART;VALUE=DATE:20240709
DTEND;VALUE=DATE:20240709
SUMMARY:Vergabeergebnis — Rahmenvereinbarung über die Durchführung chemisch-toxikologi
DESCRIPTION:Phase: Vergabeergebnis | Beschreibung: Verfahren beendet ohne Vergabe | Link: https://ausschreibungsradar.com/ausschreibung/39efac24-5a61-466a-84ff-939ca3697111/
URL:https://ausschreibungsradar.com/ausschreibung/39efac24-5a61-466a-84ff-939ca3697111/
END:VEVENT
BEGIN:VEVENT
UID:959e734eafb71dbe@ausschreibungsradar.com
DTSTAMP:20260424T004944Z
DTSTART;VALUE=DATE:20240716
DTEND;VALUE=DATE:20240716
SUMMARY:Ausschreibung — Rahmenvereinbarung über die Durchführung chemisch-toxikologi
DESCRIPTION:Phase: Ausschreibung | Beschreibung: Offizielle Ausschreibung mit Bieterfrist. | Link: https://ausschreibungsradar.com/ausschreibung/91e78140-504c-4c1f-842f-d00e98a1466c/
URL:https://ausschreibungsradar.com/ausschreibung/91e78140-504c-4c1f-842f-d00e98a1466c/
END:VEVENT
END:VCALENDAR
