BEGIN:VCALENDAR
VERSION:2.0
PRODID:-//AusschreibungsRadar//Timeline//DE
CALSCALE:GREGORIAN
METHOD:PUBLISH
X-WR-CALNAME:Projekt Rahmenvertrag für Archäologie-Leistungen in den durch das Bu
X-WR-TIMEZONE:Europe/Berlin
BEGIN:VEVENT
UID:490abac69b61c4da@ausschreibungsradar.com
DTSTAMP:20260424T232957Z
DTSTART;VALUE=DATE:20250724
DTEND;VALUE=DATE:20250724
SUMMARY:Ausschreibung — Rahmenvertrag für Archäologie-Leistungen in den durch das Bu
DESCRIPTION:Phase: Ausschreibung | Beschreibung: Angebote werden eingeholt | Link: https://ausschreibungsradar.com/ausschreibung/3a93d9c7-5f5f-4420-a4c3-973d07a7c716/
URL:https://ausschreibungsradar.com/ausschreibung/3a93d9c7-5f5f-4420-a4c3-973d07a7c716/
END:VEVENT
BEGIN:VEVENT
UID:9177499dadc80118@ausschreibungsradar.com
DTSTAMP:20260424T232957Z
DTSTART;VALUE=DATE:20250916
DTEND;VALUE=DATE:20250916
SUMMARY:Vergabeergebnis — Rahmenvertrag für Archäologie-Leistungen in den durch das Bu
DESCRIPTION:Phase: Vergabeergebnis | Beschreibung: Keine Angebote eingegangen | Link: https://ausschreibungsradar.com/ausschreibung/4041ac0a-219e-4688-8295-6fe400c3963d/
URL:https://ausschreibungsradar.com/ausschreibung/4041ac0a-219e-4688-8295-6fe400c3963d/
END:VEVENT
END:VCALENDAR
