BEGIN:VCALENDAR
VERSION:2.0
PRODID:-//AusschreibungsRadar//Timeline//DE
CALSCALE:GREGORIAN
METHOD:PUBLISH
X-WR-CALNAME:Projekt Verkabelung, Auf- und Abbau IT- Equietment
X-WR-TIMEZONE:Europe/Berlin
BEGIN:VEVENT
UID:d5a7bdcddeced495@ausschreibungsradar.com
DTSTAMP:20260424T215738Z
DTSTART;VALUE=DATE:20250512
DTEND;VALUE=DATE:20250512
SUMMARY:Ausschreibung — Verkabelung\, Auf- und Abbau IT- Equietment
DESCRIPTION:Phase: Ausschreibung | Beschreibung: Angebote werden eingeholt | Link: https://ausschreibungsradar.com/ausschreibung/3aaab9f0-0713-47d1-998f-09ee4075de32/
URL:https://ausschreibungsradar.com/ausschreibung/3aaab9f0-0713-47d1-998f-09ee4075de32/
END:VEVENT
BEGIN:VEVENT
UID:048044c52431f94f@ausschreibungsradar.com
DTSTAMP:20260424T215738Z
DTSTART;VALUE=DATE:20250512
DTEND;VALUE=DATE:20250512
SUMMARY:Ausschreibung — Verkabelung\, Auf- und Abbau IT- Equietment
DESCRIPTION:Phase: Ausschreibung | Beschreibung: Offizielle Ausschreibung mit Bieterfrist. | Link: https://ausschreibungsradar.com/ausschreibung/6c7d0224-a23e-4651-8a08-db917dda390b/
URL:https://ausschreibungsradar.com/ausschreibung/6c7d0224-a23e-4651-8a08-db917dda390b/
END:VEVENT
BEGIN:VEVENT
UID:5fdd832b23a9e253@ausschreibungsradar.com
DTSTAMP:20260424T215738Z
DTSTART;VALUE=DATE:20250512
DTEND;VALUE=DATE:20250512
SUMMARY:Ausschreibung — Verkabelung\, Auf- und Abbau IT- Equietment
DESCRIPTION:Phase: Ausschreibung | Beschreibung: Offizielle Ausschreibung mit Bieterfrist. | Link: https://ausschreibungsradar.com/ausschreibung/50a6efd1-0cc2-465e-a3b2-d52315693b67/
URL:https://ausschreibungsradar.com/ausschreibung/50a6efd1-0cc2-465e-a3b2-d52315693b67/
END:VEVENT
BEGIN:VEVENT
UID:f3a0e00d0a075fe0@ausschreibungsradar.com
DTSTAMP:20260424T215738Z
DTSTART;VALUE=DATE:20250604
DTEND;VALUE=DATE:20250604
SUMMARY:Vergabeergebnis — Verkabelung\, Auf- und Abbau IT- Equietment
DESCRIPTION:Phase: Vergabeergebnis | Beschreibung: Auftrag wurde zugeschlagen | Link: https://ausschreibungsradar.com/ausschreibung/b4c81b8b-f50c-4c9c-bbf3-b64ac7547f8c/
URL:https://ausschreibungsradar.com/ausschreibung/b4c81b8b-f50c-4c9c-bbf3-b64ac7547f8c/
END:VEVENT
END:VCALENDAR
