BEGIN:VCALENDAR
VERSION:2.0
PRODID:-//AusschreibungsRadar//Timeline//DE
CALSCALE:GREGORIAN
METHOD:PUBLISH
X-WR-CALNAME:Projekt Verbindungsbrücken 1. BA
X-WR-TIMEZONE:Europe/Berlin
BEGIN:VEVENT
UID:eefedda06e2d0b1f@ausschreibungsradar.com
DTSTAMP:20260424T150837Z
DTSTART;VALUE=DATE:20251201
DTEND;VALUE=DATE:20251201
SUMMARY:Angebotsfrist — Verbindungsbrücken 1. BA
DESCRIPTION:Phase: Ausschreibung | Beschreibung: Angebote werden eingeholt | Link: https://ausschreibungsradar.com/ausschreibung/3aafed8b-bab7-4426-9d04-53c17c144f6c/
URL:https://ausschreibungsradar.com/ausschreibung/3aafed8b-bab7-4426-9d04-53c17c144f6c/
END:VEVENT
BEGIN:VEVENT
UID:a03ffaf3e62d5722@ausschreibungsradar.com
DTSTAMP:20260424T150837Z
DTSTART;VALUE=DATE:20251030
DTEND;VALUE=DATE:20251030
SUMMARY:Ausschreibung — Verbindungsbrücken 1. BA
DESCRIPTION:Phase: Ausschreibung | Beschreibung: Offizielle Ausschreibung mit Bieterfrist. | Link: https://ausschreibungsradar.com/ausschreibung/a2631525-97af-41d5-9570-2062be253df8/
URL:https://ausschreibungsradar.com/ausschreibung/a2631525-97af-41d5-9570-2062be253df8/
END:VEVENT
BEGIN:VEVENT
UID:489f6c4a35e09fcc@ausschreibungsradar.com
DTSTAMP:20260424T150837Z
DTSTART;VALUE=DATE:20260120
DTEND;VALUE=DATE:20260120
SUMMARY:Vergabeergebnis — Verbindungsbrücken 1. BA
DESCRIPTION:Phase: Vergabeergebnis | Beschreibung: Auftrag wurde zugeschlagen | Link: https://ausschreibungsradar.com/ausschreibung/993ddc04-0916-4f5e-bec6-be08b9bbeebe/
URL:https://ausschreibungsradar.com/ausschreibung/993ddc04-0916-4f5e-bec6-be08b9bbeebe/
END:VEVENT
END:VCALENDAR
