BEGIN:VCALENDAR
VERSION:2.0
PRODID:-//AusschreibungsRadar//Timeline//DE
CALSCALE:GREGORIAN
METHOD:PUBLISH
X-WR-CALNAME:Projekt Stadt Hof, Vergabe von Fahrradleasing-Leistungen
X-WR-TIMEZONE:Europe/Berlin
BEGIN:VEVENT
UID:809fdac3c9811d3b@ausschreibungsradar.com
DTSTAMP:20260424T002848Z
DTSTART;VALUE=DATE:20240123
DTEND;VALUE=DATE:20240123
SUMMARY:Angebotsfrist — Stadt Hof\, Vergabe von Fahrradleasing-Leistungen
DESCRIPTION:Phase: Ausschreibung | Beschreibung: Angebote werden eingeholt | Link: https://ausschreibungsradar.com/ausschreibung/3b241218-4e06-4a8b-8440-d7c71ad238d0/
URL:https://ausschreibungsradar.com/ausschreibung/3b241218-4e06-4a8b-8440-d7c71ad238d0/
END:VEVENT
BEGIN:VEVENT
UID:3d8c0154340feb5a@ausschreibungsradar.com
DTSTAMP:20260424T002848Z
DTSTART;VALUE=DATE:20231208
DTEND;VALUE=DATE:20231208
SUMMARY:Ausschreibung — Stadt Hof\, Vergabe von Fahrradleasing-Leistungen
DESCRIPTION:Phase: Ausschreibung | Beschreibung: Offizielle Ausschreibung mit Bieterfrist. | Link: https://ausschreibungsradar.com/ausschreibung/3f5cf2da-1038-46c3-8786-0ae24a762dd7/
URL:https://ausschreibungsradar.com/ausschreibung/3f5cf2da-1038-46c3-8786-0ae24a762dd7/
END:VEVENT
BEGIN:VEVENT
UID:9cb23152de2cc705@ausschreibungsradar.com
DTSTAMP:20260424T002848Z
DTSTART;VALUE=DATE:20231208
DTEND;VALUE=DATE:20231208
SUMMARY:Ausschreibung — Stadt Hof\, Vergabe von Fahrradleasing-Leistungen
DESCRIPTION:Phase: Ausschreibung | Beschreibung: Offizielle Ausschreibung mit Bieterfrist. | Link: https://ausschreibungsradar.com/ausschreibung/08e16a24-e8fb-442d-9172-ee7b5e9a8f46/
URL:https://ausschreibungsradar.com/ausschreibung/08e16a24-e8fb-442d-9172-ee7b5e9a8f46/
END:VEVENT
BEGIN:VEVENT
UID:49c237a3f31ea642@ausschreibungsradar.com
DTSTAMP:20260424T002848Z
DTSTART;VALUE=DATE:20240614
DTEND;VALUE=DATE:20240614
SUMMARY:Vergabeergebnis — Stadt Hof\, Vergabe von Fahrradleasing-Leistungen
DESCRIPTION:Phase: Vergabeergebnis | Beschreibung: Auftrag wurde zugeschlagen | Link: https://ausschreibungsradar.com/ausschreibung/406ffed0-664c-4f57-a8b0-7907cedf996f/
URL:https://ausschreibungsradar.com/ausschreibung/406ffed0-664c-4f57-a8b0-7907cedf996f/
END:VEVENT
END:VCALENDAR
