BEGIN:VCALENDAR
VERSION:2.0
PRODID:-//AusschreibungsRadar//Timeline//DE
CALSCALE:GREGORIAN
METHOD:PUBLISH
X-WR-CALNAME:Projekt Winterdienst mit Unternehmerfahrzeugen, GB Hameln, 2025-2030
X-WR-TIMEZONE:Europe/Berlin
BEGIN:VEVENT
UID:efcb274ae0eb5169@ausschreibungsradar.com
DTSTAMP:20260425T194714Z
DTSTART;VALUE=DATE:20250814
DTEND;VALUE=DATE:20250814
SUMMARY:Angebotsfrist — Winterdienst mit Unternehmerfahrzeugen\, GB Hameln\, 2025-2030
DESCRIPTION:Phase: Ausschreibung | Beschreibung: Angebote werden eingeholt | Link: https://ausschreibungsradar.com/ausschreibung/3b35348e-3dbb-4be1-8628-8ce514554015/
URL:https://ausschreibungsradar.com/ausschreibung/3b35348e-3dbb-4be1-8628-8ce514554015/
END:VEVENT
BEGIN:VEVENT
UID:60e030a19ebe7ab3@ausschreibungsradar.com
DTSTAMP:20260425T194714Z
DTSTART;VALUE=DATE:20251010
DTEND;VALUE=DATE:20251010
SUMMARY:Vergabeergebnis — Winterdienst mit Unternehmerfahrzeugen\, GB Hameln\, 2025-2030
DESCRIPTION:Phase: Vergabeergebnis | Beschreibung: Verfahren noch offen | Link: https://ausschreibungsradar.com/ausschreibung/a3ca954e-21f9-493b-8c68-c61d35fb9a14/ | Geschätzter Wert: 150800 €
URL:https://ausschreibungsradar.com/ausschreibung/a3ca954e-21f9-493b-8c68-c61d35fb9a14/
END:VEVENT
END:VCALENDAR
