BEGIN:VCALENDAR
VERSION:2.0
PRODID:-//AusschreibungsRadar//Timeline//DE
CALSCALE:GREGORIAN
METHOD:PUBLISH
X-WR-CALNAME:Projekt FW Gomaringen - Erd-Beton-Entwässerungskanalarbeiten (Rohbau
X-WR-TIMEZONE:Europe/Berlin
BEGIN:VEVENT
UID:6c87fbe7dd2764df@ausschreibungsradar.com
DTSTAMP:20260425T215556Z
DTSTART;VALUE=DATE:20250821
DTEND;VALUE=DATE:20250821
SUMMARY:Angebotsfrist — FW Gomaringen - Erd-Beton-Entwässerungskanalarbeiten (Rohbau
DESCRIPTION:Phase: Ausschreibung | Beschreibung: Angebote werden eingeholt | Link: https://ausschreibungsradar.com/ausschreibung/a2b20bfa-a4dd-4890-b538-6c07c74bfea8/
URL:https://ausschreibungsradar.com/ausschreibung/a2b20bfa-a4dd-4890-b538-6c07c74bfea8/
END:VEVENT
BEGIN:VEVENT
UID:3d1e2d858140dae6@ausschreibungsradar.com
DTSTAMP:20260425T215556Z
DTSTART;VALUE=DATE:20251015
DTEND;VALUE=DATE:20251015
SUMMARY:Vergabeergebnis — FW Gomaringen - Erd-Beton-Entwässerungskanalarbeiten (Rohbau
DESCRIPTION:Phase: Vergabeergebnis | Beschreibung: Auftrag wurde zugeschlagen | Link: https://ausschreibungsradar.com/ausschreibung/3b90bd3c-54c1-43c0-87a1-26aeee0d12f4/
URL:https://ausschreibungsradar.com/ausschreibung/3b90bd3c-54c1-43c0-87a1-26aeee0d12f4/
END:VEVENT
END:VCALENDAR
