BEGIN:VCALENDAR
VERSION:2.0
PRODID:-//AusschreibungsRadar//Timeline//DE
CALSCALE:GREGORIAN
METHOD:PUBLISH
X-WR-CALNAME:Projekt REZ Bayern_45ind_AA Zwickau
X-WR-TIMEZONE:Europe/Berlin
BEGIN:VEVENT
UID:376851fbe3b8cb00@ausschreibungsradar.com
DTSTAMP:20260424T173453Z
DTSTART;VALUE=DATE:20260130
DTEND;VALUE=DATE:20260130
SUMMARY:Ausschreibung — REZ Bayern_45ind_AA Zwickau
DESCRIPTION:Phase: Ausschreibung | Beschreibung: Angebote werden eingeholt | Link: https://ausschreibungsradar.com/ausschreibung/3bba516b-8a5c-4f37-a235-8f9932097a6e/
URL:https://ausschreibungsradar.com/ausschreibung/3bba516b-8a5c-4f37-a235-8f9932097a6e/
END:VEVENT
BEGIN:VEVENT
UID:b5374e9de22f5756@ausschreibungsradar.com
DTSTAMP:20260424T173453Z
DTSTART;VALUE=DATE:20260421
DTEND;VALUE=DATE:20260421
SUMMARY:Vergabeergebnis — REZ Bayern_45ind_AA Zwickau
DESCRIPTION:Phase: Vergabeergebnis | Beschreibung: Auftrag wurde zugeschlagen | Link: https://ausschreibungsradar.com/ausschreibung/c8139175-bc68-4bf6-a646-10efe074bd35/
URL:https://ausschreibungsradar.com/ausschreibung/c8139175-bc68-4bf6-a646-10efe074bd35/
END:VEVENT
END:VCALENDAR
