BEGIN:VCALENDAR
VERSION:2.0
PRODID:-//AusschreibungsRadar//Timeline//DE
CALSCALE:GREGORIAN
METHOD:PUBLISH
X-WR-CALNAME:Projekt Verlängerung der Software Update License & des Supports für 
X-WR-TIMEZONE:Europe/Berlin
BEGIN:VEVENT
UID:f5ebe6963f19c51c@ausschreibungsradar.com
DTSTAMP:20260426T021304Z
DTSTART;VALUE=DATE:20250813
DTEND;VALUE=DATE:20250813
SUMMARY:Angebotsfrist — Verlängerung der Software Update License & des Supports für 
DESCRIPTION:Phase: Ausschreibung | Beschreibung: Angebote werden eingeholt | Link: https://ausschreibungsradar.com/ausschreibung/3c38bb7a-d9a2-4fc2-8aec-8138a59966a1/
URL:https://ausschreibungsradar.com/ausschreibung/3c38bb7a-d9a2-4fc2-8aec-8138a59966a1/
END:VEVENT
END:VCALENDAR
