BEGIN:VCALENDAR
VERSION:2.0
PRODID:-//AusschreibungsRadar//Timeline//DE
CALSCALE:GREGORIAN
METHOD:PUBLISH
X-WR-CALNAME:Projekt Ausstattung der Liegenschaften des Auswärtigen Amts mit Sani
X-WR-TIMEZONE:Europe/Berlin
BEGIN:VEVENT
UID:af652198b7c2a402@ausschreibungsradar.com
DTSTAMP:20260425T205433Z
DTSTART;VALUE=DATE:20260105
DTEND;VALUE=DATE:20260105
SUMMARY:Angebotsfrist — Ausstattung der Liegenschaften des Auswärtigen Amts mit Sani
DESCRIPTION:Phase: Ausschreibung | Beschreibung: Angebote werden eingeholt | Link: https://ausschreibungsradar.com/ausschreibung/3c79b878-bafd-4b49-a022-57f3eca56c0a/
URL:https://ausschreibungsradar.com/ausschreibung/3c79b878-bafd-4b49-a022-57f3eca56c0a/
END:VEVENT
BEGIN:VEVENT
UID:2ece32df0e7f45d2@ausschreibungsradar.com
DTSTAMP:20260425T205433Z
DTSTART;VALUE=DATE:20251112
DTEND;VALUE=DATE:20251112
SUMMARY:Ausschreibung — Ausstattung der Liegenschaften des Auswärtigen Amts mit Sani
DESCRIPTION:Phase: Ausschreibung | Beschreibung: Offizielle Ausschreibung mit Bieterfrist. | Link: https://ausschreibungsradar.com/ausschreibung/6f0c580c-f586-471f-a9c8-cf75d3e9c177/
URL:https://ausschreibungsradar.com/ausschreibung/6f0c580c-f586-471f-a9c8-cf75d3e9c177/
END:VEVENT
BEGIN:VEVENT
UID:98f9db39072acaaf@ausschreibungsradar.com
DTSTAMP:20260425T205433Z
DTSTART;VALUE=DATE:20260112
DTEND;VALUE=DATE:20260112
SUMMARY:Vergabeergebnis — Ausstattung der Liegenschaften des Auswärtigen Amts mit Sani
DESCRIPTION:Phase: Vergabeergebnis | Beschreibung: Auftrag wurde zugeschlagen | Link: https://ausschreibungsradar.com/ausschreibung/13121db2-a8f7-412f-a1e6-7410c09f81ba/
URL:https://ausschreibungsradar.com/ausschreibung/13121db2-a8f7-412f-a1e6-7410c09f81ba/
END:VEVENT
END:VCALENDAR
