BEGIN:VCALENDAR
VERSION:2.0
PRODID:-//AusschreibungsRadar//Timeline//DE
CALSCALE:GREGORIAN
METHOD:PUBLISH
X-WR-CALNAME:Projekt Sanierung Rathaus Arnsberg, Rathausplatz 1, 59759 Arnsberg -
X-WR-TIMEZONE:Europe/Berlin
BEGIN:VEVENT
UID:3c6f87533c205929@ausschreibungsradar.com
DTSTAMP:20260425T151650Z
DTSTART;VALUE=DATE:20251021
DTEND;VALUE=DATE:20251021
SUMMARY:Vertragsmodifikation — Sanierung Rathaus Arnsberg\, Rathausplatz 1\, 59759 Arnsberg -
DESCRIPTION:Phase: Vertragsmodifikation | Beschreibung: Änderung am bestehenden Vertrag nach Zuschlag. | Link: https://ausschreibungsradar.com/ausschreibung/dd956da2-878d-4ee5-b4a5-a2d144806864/
URL:https://ausschreibungsradar.com/ausschreibung/dd956da2-878d-4ee5-b4a5-a2d144806864/
END:VEVENT
BEGIN:VEVENT
UID:8bf07de3b66186eb@ausschreibungsradar.com
DTSTAMP:20260425T151650Z
DTSTART;VALUE=DATE:20260107
DTEND;VALUE=DATE:20260107
SUMMARY:Vertragsänderung — Sanierung Rathaus Arnsberg\, Rathausplatz 1\, 59759 Arnsberg -
DESCRIPTION:Phase: Vertragsänderung | Beschreibung: Zusätzliche Lieferungen/Leistungen beauftragt | Link: https://ausschreibungsradar.com/ausschreibung/3ca5186b-2904-474a-830c-3cff8c0c1a07/
URL:https://ausschreibungsradar.com/ausschreibung/3ca5186b-2904-474a-830c-3cff8c0c1a07/
END:VEVENT
BEGIN:VEVENT
UID:732216cf01ea2cf4@ausschreibungsradar.com
DTSTAMP:20260425T151650Z
DTSTART;VALUE=DATE:20260107
DTEND;VALUE=DATE:20260107
SUMMARY:Vertragsmodifikation — Sanierung Rathaus Arnsberg\, Rathausplatz 1\, 59759 Arnsberg -
DESCRIPTION:Phase: Vertragsmodifikation | Beschreibung: Änderung am bestehenden Vertrag nach Zuschlag. | Link: https://ausschreibungsradar.com/ausschreibung/0d6196d8-a144-4286-9983-8809fd9348bc/
URL:https://ausschreibungsradar.com/ausschreibung/0d6196d8-a144-4286-9983-8809fd9348bc/
END:VEVENT
BEGIN:VEVENT
UID:e96b095dc0c41359@ausschreibungsradar.com
DTSTAMP:20260425T151650Z
DTSTART;VALUE=DATE:20260113
DTEND;VALUE=DATE:20260113
SUMMARY:Direktvergabe (VEAT) — Sanierung Rathaus Arnsberg\, Rathausplatz 1\, 59759 Arnsberg -
DESCRIPTION:Phase: Direktvergabe (VEAT) | Beschreibung: Ankündigung einer Direktvergabe mit 10-Tage-Stillhaltefrist. | Link: https://ausschreibungsradar.com/ausschreibung/8ef0a727-0c6a-4216-956d-4380cd161b1a/
URL:https://ausschreibungsradar.com/ausschreibung/8ef0a727-0c6a-4216-956d-4380cd161b1a/
END:VEVENT
END:VCALENDAR
