BEGIN:VCALENDAR
VERSION:2.0
PRODID:-//AusschreibungsRadar//Timeline//DE
CALSCALE:GREGORIAN
METHOD:PUBLISH
X-WR-CALNAME:Projekt K 6544 Ersatzneubau Brücke über die DB in Albbruck
X-WR-TIMEZONE:Europe/Berlin
BEGIN:VEVENT
UID:b7503dfea6fc37a1@ausschreibungsradar.com
DTSTAMP:20260425T173311Z
DTSTART;VALUE=DATE:20250317
DTEND;VALUE=DATE:20250317
SUMMARY:Angebotsfrist — K 6544 Ersatzneubau Brücke über die DB in Albbruck
DESCRIPTION:Phase: Ausschreibung | Beschreibung: Angebote werden eingeholt | Link: https://ausschreibungsradar.com/ausschreibung/3d01a623-1920-4db9-974a-d15cdadb056e/
URL:https://ausschreibungsradar.com/ausschreibung/3d01a623-1920-4db9-974a-d15cdadb056e/
END:VEVENT
BEGIN:VEVENT
UID:985b13ce7bae5645@ausschreibungsradar.com
DTSTAMP:20260425T173311Z
DTSTART;VALUE=DATE:20250409
DTEND;VALUE=DATE:20250409
SUMMARY:Vergabeergebnis — K 6544 Ersatzneubau Brücke über die DB in Albbruck
DESCRIPTION:Phase: Vergabeergebnis | Beschreibung: Auftrag wurde zugeschlagen | Link: https://ausschreibungsradar.com/ausschreibung/0978d342-7974-4309-98d7-8632f60552fd/
URL:https://ausschreibungsradar.com/ausschreibung/0978d342-7974-4309-98d7-8632f60552fd/
END:VEVENT
END:VCALENDAR
