BEGIN:VCALENDAR
VERSION:2.0
PRODID:-//AusschreibungsRadar//Timeline//DE
CALSCALE:GREGORIAN
METHOD:PUBLISH
X-WR-CALNAME:Projekt Rahmenvertrag für Prüfdienstleistungen Medizin- und Labortec
X-WR-TIMEZONE:Europe/Berlin
BEGIN:VEVENT
UID:2cea9e472e996c54@ausschreibungsradar.com
DTSTAMP:20260426T020035Z
DTSTART;VALUE=DATE:20260417
DTEND;VALUE=DATE:20260417
SUMMARY:Ausschreibung — Rahmenvertrag für Prüfdienstleistungen Medizin- und Labortec
DESCRIPTION:Phase: Ausschreibung | Beschreibung: Offizielle Ausschreibung mit Bieterfrist. | Link: https://ausschreibungsradar.com/ausschreibung/3d0ab089-49b2-4414-b79a-cc68a87649c0/
URL:https://ausschreibungsradar.com/ausschreibung/3d0ab089-49b2-4414-b79a-cc68a87649c0/
END:VEVENT
BEGIN:VEVENT
UID:42c9e1f3c5b88603@ausschreibungsradar.com
DTSTAMP:20260426T020035Z
DTSTART;VALUE=DATE:20260420
DTEND;VALUE=DATE:20260420
SUMMARY:Ausschreibung — Rahmenvertrag für Prüfdienstleistungen Medizin- und Labortec
DESCRIPTION:Phase: Ausschreibung | Beschreibung: Offizielle Ausschreibung mit Bieterfrist. | Link: https://ausschreibungsradar.com/ausschreibung/ted-267619-2026/
URL:https://ausschreibungsradar.com/ausschreibung/ted-267619-2026/
END:VEVENT
END:VCALENDAR
