BEGIN:VCALENDAR
VERSION:2.0
PRODID:-//AusschreibungsRadar//Timeline//DE
CALSCALE:GREGORIAN
METHOD:PUBLISH
X-WR-CALNAME:Projekt Gymnasium Mainz-Mombach, Baufeldfreimachung
X-WR-TIMEZONE:Europe/Berlin
BEGIN:VEVENT
UID:252b04cfd48b9f0c@ausschreibungsradar.com
DTSTAMP:20260425T102534Z
DTSTART;VALUE=DATE:20260410
DTEND;VALUE=DATE:20260410
SUMMARY:Angebotsfrist — Gymnasium Mainz-Mombach\, Baufeldfreimachung
DESCRIPTION:Phase: Ausschreibung | Beschreibung: Angebote werden eingeholt | Link: https://ausschreibungsradar.com/ausschreibung/3d183535-0872-44e0-9edc-929d61df05c2/
URL:https://ausschreibungsradar.com/ausschreibung/3d183535-0872-44e0-9edc-929d61df05c2/
END:VEVENT
BEGIN:VEVENT
UID:46e65d3de13b9830@ausschreibungsradar.com
DTSTAMP:20260425T102534Z
DTSTART;VALUE=DATE:20260212
DTEND;VALUE=DATE:20260212
SUMMARY:Ausschreibung — Gymnasium Mainz-Mombach\, Baufeldfreimachung
DESCRIPTION:Phase: Ausschreibung | Beschreibung: Offizielle Ausschreibung mit Bieterfrist. | Link: https://ausschreibungsradar.com/ausschreibung/39eb4829-354c-4978-9825-a5050379e57c/
URL:https://ausschreibungsradar.com/ausschreibung/39eb4829-354c-4978-9825-a5050379e57c/
END:VEVENT
BEGIN:VEVENT
UID:741569977b84318b@ausschreibungsradar.com
DTSTAMP:20260425T102534Z
DTSTART;VALUE=DATE:20260212
DTEND;VALUE=DATE:20260212
SUMMARY:Ausschreibung — Gymnasium Mainz-Mombach\, Baufeldfreimachung
DESCRIPTION:Phase: Ausschreibung | Beschreibung: Offizielle Ausschreibung mit Bieterfrist. | Link: https://ausschreibungsradar.com/ausschreibung/f2fa0577-038e-464c-a391-eb74bf17978e/
URL:https://ausschreibungsradar.com/ausschreibung/f2fa0577-038e-464c-a391-eb74bf17978e/
END:VEVENT
BEGIN:VEVENT
UID:c7a431732c569e3e@ausschreibungsradar.com
DTSTAMP:20260425T102534Z
DTSTART;VALUE=DATE:20260212
DTEND;VALUE=DATE:20260212
SUMMARY:Ausschreibung — Gymnasium Mainz-Mombach\, Baufeldfreimachung
DESCRIPTION:Phase: Ausschreibung | Beschreibung: Offizielle Ausschreibung mit Bieterfrist. | Link: https://ausschreibungsradar.com/ausschreibung/921b676f-19ba-491e-9620-26af6cb3fccc/
URL:https://ausschreibungsradar.com/ausschreibung/921b676f-19ba-491e-9620-26af6cb3fccc/
END:VEVENT
END:VCALENDAR
