BEGIN:VCALENDAR
VERSION:2.0
PRODID:-//AusschreibungsRadar//Timeline//DE
CALSCALE:GREGORIAN
METHOD:PUBLISH
X-WR-CALNAME:Projekt Entwässerungskanalarbeiten
X-WR-TIMEZONE:Europe/Berlin
BEGIN:VEVENT
UID:c8fa1f8ff354b7c8@ausschreibungsradar.com
DTSTAMP:20260425T184727Z
DTSTART;VALUE=DATE:20250401
DTEND;VALUE=DATE:20250401
SUMMARY:Angebotsfrist — Entwässerungskanalarbeiten
DESCRIPTION:Phase: Ausschreibung | Beschreibung: Angebote werden eingeholt | Link: https://ausschreibungsradar.com/ausschreibung/3d2c59b3-1956-42d3-b4aa-c7b5b9402304/
URL:https://ausschreibungsradar.com/ausschreibung/3d2c59b3-1956-42d3-b4aa-c7b5b9402304/
END:VEVENT
BEGIN:VEVENT
UID:65b290155818be4c@ausschreibungsradar.com
DTSTAMP:20260425T184727Z
DTSTART;VALUE=DATE:20250430
DTEND;VALUE=DATE:20250430
SUMMARY:Vergabeergebnis — Entwässerungskanalarbeiten
DESCRIPTION:Phase: Vergabeergebnis | Beschreibung: Auftrag wurde zugeschlagen | Link: https://ausschreibungsradar.com/ausschreibung/dc1278ec-bb3f-4f36-af06-17c9e5bde36f/ | Auftragnehmer: Franz Schelle GmbH & Co.K
URL:https://ausschreibungsradar.com/ausschreibung/dc1278ec-bb3f-4f36-af06-17c9e5bde36f/
END:VEVENT
END:VCALENDAR
