BEGIN:VCALENDAR
VERSION:2.0
PRODID:-//AusschreibungsRadar//Timeline//DE
CALSCALE:GREGORIAN
METHOD:PUBLISH
X-WR-CALNAME:Projekt EU-weite Ausschreibung von Leistungen der Tragwerkplanung fü
X-WR-TIMEZONE:Europe/Berlin
BEGIN:VEVENT
UID:533792b409ae56fa@ausschreibungsradar.com
DTSTAMP:20260424T203403Z
DTSTART;VALUE=DATE:20240103
DTEND;VALUE=DATE:20240103
SUMMARY:Angebotsfrist — EU-weite Ausschreibung von Leistungen der Tragwerkplanung fü
DESCRIPTION:Phase: Ausschreibung | Beschreibung: Angebote werden eingeholt | Link: https://ausschreibungsradar.com/ausschreibung/3d2ea174-4911-4e8a-aa28-295ddc245120/ | Geschätzter Wert: 1 €
URL:https://ausschreibungsradar.com/ausschreibung/3d2ea174-4911-4e8a-aa28-295ddc245120/
END:VEVENT
BEGIN:VEVENT
UID:3bcf928abad1b6ab@ausschreibungsradar.com
DTSTAMP:20260424T203403Z
DTSTART;VALUE=DATE:20231128
DTEND;VALUE=DATE:20231128
SUMMARY:Ausschreibung — EU-weite Ausschreibung von Leistungen der Tragwerkplanung fü
DESCRIPTION:Phase: Ausschreibung | Beschreibung: Offizielle Ausschreibung mit Bieterfrist. | Link: https://ausschreibungsradar.com/ausschreibung/b15ef937-a7bf-437b-869a-121a26637c7b/
URL:https://ausschreibungsradar.com/ausschreibung/b15ef937-a7bf-437b-869a-121a26637c7b/
END:VEVENT
BEGIN:VEVENT
UID:66393ec0a892790a@ausschreibungsradar.com
DTSTAMP:20260424T203403Z
DTSTART;VALUE=DATE:20231130
DTEND;VALUE=DATE:20231130
SUMMARY:Ausschreibung — EU-weite Ausschreibung von Leistungen der Tragwerkplanung fü
DESCRIPTION:Phase: Ausschreibung | Beschreibung: Offizielle Ausschreibung mit Bieterfrist. | Link: https://ausschreibungsradar.com/ausschreibung/ted-726186-2023/
URL:https://ausschreibungsradar.com/ausschreibung/ted-726186-2023/
END:VEVENT
END:VCALENDAR
