BEGIN:VCALENDAR
VERSION:2.0
PRODID:-//AusschreibungsRadar//Timeline//DE
CALSCALE:GREGORIAN
METHOD:PUBLISH
X-WR-CALNAME:Projekt Neuromodulation
X-WR-TIMEZONE:Europe/Berlin
BEGIN:VEVENT
UID:3bf026a616113af5@ausschreibungsradar.com
DTSTAMP:20260424T135215Z
DTSTART;VALUE=DATE:20250416
DTEND;VALUE=DATE:20250416
SUMMARY:Ausschreibung — Neuromodulation
DESCRIPTION:Phase: Ausschreibung | Beschreibung: Angebote werden eingeholt | Link: https://ausschreibungsradar.com/ausschreibung/3d4397db-3491-4fbd-a019-5501b06d2054/
URL:https://ausschreibungsradar.com/ausschreibung/3d4397db-3491-4fbd-a019-5501b06d2054/
END:VEVENT
BEGIN:VEVENT
UID:7ed031abe6b89cf0@ausschreibungsradar.com
DTSTAMP:20260424T135215Z
DTSTART;VALUE=DATE:20250812
DTEND;VALUE=DATE:20250812
SUMMARY:Vergabeergebnis — Neuromodulation
DESCRIPTION:Phase: Vergabeergebnis | Beschreibung: Auftrag wurde zugeschlagen | Link: https://ausschreibungsradar.com/ausschreibung/7a6c94c3-3257-4248-a550-15b88531bad6/
URL:https://ausschreibungsradar.com/ausschreibung/7a6c94c3-3257-4248-a550-15b88531bad6/
END:VEVENT
END:VCALENDAR
