BEGIN:VCALENDAR
VERSION:2.0
PRODID:-//AusschreibungsRadar//Timeline//DE
CALSCALE:GREGORIAN
METHOD:PUBLISH
X-WR-CALNAME:Projekt Lieferung von Erdgas für den Zweckverband Wasserversorgung u
X-WR-TIMEZONE:Europe/Berlin
BEGIN:VEVENT
UID:c5ffb937120deebb@ausschreibungsradar.com
DTSTAMP:20260424T192311Z
DTSTART;VALUE=DATE:20250912
DTEND;VALUE=DATE:20250912
SUMMARY:Ausschreibung — Lieferung von Erdgas für den Zweckverband Wasserversorgung u
DESCRIPTION:Phase: Ausschreibung | Beschreibung: Angebote werden eingeholt | Link: https://ausschreibungsradar.com/ausschreibung/fd7ccc61-8382-4590-a11f-03f5d444e691/ | Geschätzter Wert: 275000 €
URL:https://ausschreibungsradar.com/ausschreibung/fd7ccc61-8382-4590-a11f-03f5d444e691/
END:VEVENT
BEGIN:VEVENT
UID:fcbccc0fc4401864@ausschreibungsradar.com
DTSTAMP:20260424T192311Z
DTSTART;VALUE=DATE:20251118
DTEND;VALUE=DATE:20251118
SUMMARY:Vergabeergebnis — Lieferung von Erdgas für den Zweckverband Wasserversorgung u
DESCRIPTION:Phase: Vergabeergebnis | Beschreibung: Auftrag wurde zugeschlagen | Link: https://ausschreibungsradar.com/ausschreibung/3d46ed8e-26d6-4ff8-b4de-6cb8bf71d750/ | Geschätzter Wert: 275000 €
URL:https://ausschreibungsradar.com/ausschreibung/3d46ed8e-26d6-4ff8-b4de-6cb8bf71d750/
END:VEVENT
BEGIN:VEVENT
UID:85a94752c9efe759@ausschreibungsradar.com
DTSTAMP:20260424T192311Z
DTSTART;VALUE=DATE:20251118
DTEND;VALUE=DATE:20251118
SUMMARY:Zuschlag — Lieferung von Erdgas für den Zweckverband Wasserversorgung u
DESCRIPTION:Phase: Zuschlag | Beschreibung: Vergabeergebnis — Auftrag wurde erteilt oder Verfahren beendet. | Link: https://ausschreibungsradar.com/ausschreibung/fffc53e5-67f6-422b-b077-2feeaea5401c/
URL:https://ausschreibungsradar.com/ausschreibung/fffc53e5-67f6-422b-b077-2feeaea5401c/
END:VEVENT
END:VCALENDAR
