BEGIN:VCALENDAR
VERSION:2.0
PRODID:-//AusschreibungsRadar//Timeline//DE
CALSCALE:GREGORIAN
METHOD:PUBLISH
X-WR-CALNAME:Projekt Ausschreibung von Busverkehrsleistungen im Landkreis Eichstä
X-WR-TIMEZONE:Europe/Berlin
BEGIN:VEVENT
UID:e60982600e3f7d2f@ausschreibungsradar.com
DTSTAMP:20260424T090937Z
DTSTART;VALUE=DATE:20250122
DTEND;VALUE=DATE:20250122
SUMMARY:Angebotsfrist — Ausschreibung von Busverkehrsleistungen im Landkreis Eichstä
DESCRIPTION:Phase: Ausschreibung | Beschreibung: Angebote werden eingeholt | Link: https://ausschreibungsradar.com/ausschreibung/3d4c6f12-2bb2-4046-956c-60a6fbe010df/
URL:https://ausschreibungsradar.com/ausschreibung/3d4c6f12-2bb2-4046-956c-60a6fbe010df/
END:VEVENT
BEGIN:VEVENT
UID:34760151ff01ccbe@ausschreibungsradar.com
DTSTAMP:20260424T090937Z
DTSTART;VALUE=DATE:20250614
DTEND;VALUE=DATE:20250614
SUMMARY:Vergabeergebnis — Ausschreibung von Busverkehrsleistungen im Landkreis Eichstä
DESCRIPTION:Phase: Vergabeergebnis | Beschreibung: Auftrag wurde zugeschlagen | Link: https://ausschreibungsradar.com/ausschreibung/60c7ffa7-e7fa-460d-a071-07c77a07f8fa/
URL:https://ausschreibungsradar.com/ausschreibung/60c7ffa7-e7fa-460d-a071-07c77a07f8fa/
END:VEVENT
END:VCALENDAR
