BEGIN:VCALENDAR
VERSION:2.0
PRODID:-//AusschreibungsRadar//Timeline//DE
CALSCALE:GREGORIAN
METHOD:PUBLISH
X-WR-CALNAME:Projekt LOS 5 Wiesenpark
X-WR-TIMEZONE:Europe/Berlin
BEGIN:VEVENT
UID:277416b3af4b9eb8@ausschreibungsradar.com
DTSTAMP:20260426T021406Z
DTSTART;VALUE=DATE:20250402
DTEND;VALUE=DATE:20250402
SUMMARY:Angebotsfrist — LOS 5 Wiesenpark
DESCRIPTION:Phase: Ausschreibung | Beschreibung: Angebote werden eingeholt | Link: https://ausschreibungsradar.com/ausschreibung/3d5ca8db-61da-43a2-9820-7ec34fdce9cb/
URL:https://ausschreibungsradar.com/ausschreibung/3d5ca8db-61da-43a2-9820-7ec34fdce9cb/
END:VEVENT
BEGIN:VEVENT
UID:88fa699b0edda6ca@ausschreibungsradar.com
DTSTAMP:20260426T021406Z
DTSTART;VALUE=DATE:20251215
DTEND;VALUE=DATE:20251215
SUMMARY:Vergabeergebnis — LOS 5 Wiesenpark
DESCRIPTION:Phase: Vergabeergebnis | Beschreibung: Auftrag wurde zugeschlagen | Link: https://ausschreibungsradar.com/ausschreibung/61c62634-7f56-42a8-a57f-c7f9a956885d/
URL:https://ausschreibungsradar.com/ausschreibung/61c62634-7f56-42a8-a57f-c7f9a956885d/
END:VEVENT
END:VCALENDAR
