BEGIN:VCALENDAR
VERSION:2.0
PRODID:-//AusschreibungsRadar//Timeline//DE
CALSCALE:GREGORIAN
METHOD:PUBLISH
X-WR-CALNAME:Projekt Wärme-Energie-Zentrale Bad Tölz - Stahlbau
X-WR-TIMEZONE:Europe/Berlin
BEGIN:VEVENT
UID:c5714a6bd3da5c19@ausschreibungsradar.com
DTSTAMP:20260424T105757Z
DTSTART;VALUE=DATE:20241111
DTEND;VALUE=DATE:20241111
SUMMARY:Ausschreibung — Wärme-Energie-Zentrale Bad Tölz - Stahlbau
DESCRIPTION:Phase: Ausschreibung | Beschreibung: Offizielle Ausschreibung mit Bieterfrist. | Link: https://ausschreibungsradar.com/ausschreibung/3dd0ad8b-3b2f-43c3-ad36-1732d33c01d2/
URL:https://ausschreibungsradar.com/ausschreibung/3dd0ad8b-3b2f-43c3-ad36-1732d33c01d2/
END:VEVENT
BEGIN:VEVENT
UID:b98e9e0f011f0e2a@ausschreibungsradar.com
DTSTAMP:20260424T105757Z
DTSTART;VALUE=DATE:20241113
DTEND;VALUE=DATE:20241113
SUMMARY:Ausschreibung — Wärme-Energie-Zentrale Bad Tölz - Stahlbau
DESCRIPTION:Phase: Ausschreibung | Beschreibung: Offizielle Ausschreibung mit Bieterfrist. | Link: https://ausschreibungsradar.com/ausschreibung/922a363b-23bd-42a5-a4b0-1f78e8d8b216/
URL:https://ausschreibungsradar.com/ausschreibung/922a363b-23bd-42a5-a4b0-1f78e8d8b216/
END:VEVENT
BEGIN:VEVENT
UID:7c74403fc3814c01@ausschreibungsradar.com
DTSTAMP:20260424T105757Z
DTSTART;VALUE=DATE:20241120
DTEND;VALUE=DATE:20241120
SUMMARY:Ausschreibung — Wärme-Energie-Zentrale Bad Tölz - Stahlbau
DESCRIPTION:Phase: Ausschreibung | Beschreibung: Offizielle Ausschreibung mit Bieterfrist. | Link: https://ausschreibungsradar.com/ausschreibung/d53bf7c5-f3ef-4376-8533-a97db5766c0c/
URL:https://ausschreibungsradar.com/ausschreibung/d53bf7c5-f3ef-4376-8533-a97db5766c0c/
END:VEVENT
BEGIN:VEVENT
UID:52c4b6d5f0d76db6@ausschreibungsradar.com
DTSTAMP:20260424T105757Z
DTSTART;VALUE=DATE:20241121
DTEND;VALUE=DATE:20241121
SUMMARY:Ausschreibung — Wärme-Energie-Zentrale Bad Tölz - Stahlbau
DESCRIPTION:Phase: Ausschreibung | Beschreibung: Offizielle Ausschreibung mit Bieterfrist. | Link: https://ausschreibungsradar.com/ausschreibung/fe1ce8fa-8edb-41fa-9571-13df61a69f01/
URL:https://ausschreibungsradar.com/ausschreibung/fe1ce8fa-8edb-41fa-9571-13df61a69f01/
END:VEVENT
END:VCALENDAR
