BEGIN:VCALENDAR
VERSION:2.0
PRODID:-//AusschreibungsRadar//Timeline//DE
CALSCALE:GREGORIAN
METHOD:PUBLISH
X-WR-CALNAME:Projekt Offenes Verfahren (EU-weit) zur Vergabe von Gebäudereinigung
X-WR-TIMEZONE:Europe/Berlin
BEGIN:VEVENT
UID:480fb70d84e78756@ausschreibungsradar.com
DTSTAMP:20260425T173916Z
DTSTART;VALUE=DATE:20250625
DTEND;VALUE=DATE:20250625
SUMMARY:Ausschreibung — Offenes Verfahren (EU-weit) zur Vergabe von Gebäudereinigung
DESCRIPTION:Phase: Ausschreibung | Beschreibung: Angebote werden eingeholt | Link: https://ausschreibungsradar.com/ausschreibung/69848b08-8adf-4455-9eec-a64b74c9d589/
URL:https://ausschreibungsradar.com/ausschreibung/69848b08-8adf-4455-9eec-a64b74c9d589/
END:VEVENT
BEGIN:VEVENT
UID:0c5226f5886a74a1@ausschreibungsradar.com
DTSTAMP:20260425T173916Z
DTSTART;VALUE=DATE:20251110
DTEND;VALUE=DATE:20251110
SUMMARY:Zuschlag — Offenes Verfahren (EU-weit) zur Vergabe von Gebäudereinigung
DESCRIPTION:Phase: Zuschlag | Beschreibung: Vergabeergebnis — Auftrag wurde erteilt oder Verfahren beendet. | Link: https://ausschreibungsradar.com/ausschreibung/0513aea1-9582-4969-814f-2c6cb1957d4b/
URL:https://ausschreibungsradar.com/ausschreibung/0513aea1-9582-4969-814f-2c6cb1957d4b/
END:VEVENT
BEGIN:VEVENT
UID:d127bfcffad4582c@ausschreibungsradar.com
DTSTAMP:20260425T173916Z
DTSTART;VALUE=DATE:20251127
DTEND;VALUE=DATE:20251127
SUMMARY:Vergabeergebnis — Offenes Verfahren (EU-weit) zur Vergabe von Gebäudereinigung
DESCRIPTION:Phase: Vergabeergebnis | Beschreibung: Bedarf hat sich geändert | Link: https://ausschreibungsradar.com/ausschreibung/3e0081d6-3d0a-450a-b6b5-d4f7baab4fad/
URL:https://ausschreibungsradar.com/ausschreibung/3e0081d6-3d0a-450a-b6b5-d4f7baab4fad/
END:VEVENT
BEGIN:VEVENT
UID:c77ef4587e510e8e@ausschreibungsradar.com
DTSTAMP:20260425T173916Z
DTSTART;VALUE=DATE:20251210
DTEND;VALUE=DATE:20251210
SUMMARY:Ausschreibung — Offenes Verfahren (EU-weit) zur Vergabe von Gebäudereinigung
DESCRIPTION:Phase: Ausschreibung | Beschreibung: Offizielle Ausschreibung mit Bieterfrist. | Link: https://ausschreibungsradar.com/ausschreibung/b296188a-a0e5-4bbf-8594-e4a17b5237fd/
URL:https://ausschreibungsradar.com/ausschreibung/b296188a-a0e5-4bbf-8594-e4a17b5237fd/
END:VEVENT
END:VCALENDAR
