BEGIN:VCALENDAR
VERSION:2.0
PRODID:-//AusschreibungsRadar//Timeline//DE
CALSCALE:GREGORIAN
METHOD:PUBLISH
X-WR-CALNAME:Projekt Kinderhaus Oberlenningen - LV 410 Sanitärtechnik
X-WR-TIMEZONE:Europe/Berlin
BEGIN:VEVENT
UID:4c61fc79a22ff7ef@ausschreibungsradar.com
DTSTAMP:20260424T054929Z
DTSTART;VALUE=DATE:20260421
DTEND;VALUE=DATE:20260421
SUMMARY:Angebotsfrist — Kinderhaus Oberlenningen - LV 410 Sanitärtechnik
DESCRIPTION:Phase: Ausschreibung | Beschreibung: Angebote werden eingeholt | Link: https://ausschreibungsradar.com/ausschreibung/3e5ee187-25a3-452f-a858-1e4d6abf2a16/
URL:https://ausschreibungsradar.com/ausschreibung/3e5ee187-25a3-452f-a858-1e4d6abf2a16/
END:VEVENT
BEGIN:VEVENT
UID:d52047720914b4d7@ausschreibungsradar.com
DTSTAMP:20260424T054929Z
DTSTART;VALUE=DATE:20260317
DTEND;VALUE=DATE:20260317
SUMMARY:Ausschreibung — Kinderhaus Oberlenningen - LV 410 Sanitärtechnik
DESCRIPTION:Phase: Ausschreibung | Beschreibung: Offizielle Ausschreibung mit Bieterfrist. | Link: https://ausschreibungsradar.com/ausschreibung/fdc4b9e3-378e-4ed2-89bf-bb8a227fa0dd/
URL:https://ausschreibungsradar.com/ausschreibung/fdc4b9e3-378e-4ed2-89bf-bb8a227fa0dd/
END:VEVENT
BEGIN:VEVENT
UID:13d2fb0c295d1c15@ausschreibungsradar.com
DTSTAMP:20260424T054929Z
DTSTART;VALUE=DATE:20260319
DTEND;VALUE=DATE:20260319
SUMMARY:Ausschreibung — Kinderhaus Oberlenningen - LV 410 Sanitärtechnik
DESCRIPTION:Phase: Ausschreibung | Beschreibung: Offizielle Ausschreibung mit Bieterfrist. | Link: https://ausschreibungsradar.com/ausschreibung/c6256114-0c6e-4ccd-884c-0f0c94bf7239/
URL:https://ausschreibungsradar.com/ausschreibung/c6256114-0c6e-4ccd-884c-0f0c94bf7239/
END:VEVENT
BEGIN:VEVENT
UID:e719c601897ee417@ausschreibungsradar.com
DTSTAMP:20260424T054929Z
DTSTART;VALUE=DATE:20260410
DTEND;VALUE=DATE:20260410
SUMMARY:Ausschreibung — Kinderhaus Oberlenningen - LV 410 Sanitärtechnik
DESCRIPTION:Phase: Ausschreibung | Beschreibung: Offizielle Ausschreibung mit Bieterfrist. | Link: https://ausschreibungsradar.com/ausschreibung/cc137754-fb78-4dc4-983a-dc1296af4201/
URL:https://ausschreibungsradar.com/ausschreibung/cc137754-fb78-4dc4-983a-dc1296af4201/
END:VEVENT
BEGIN:VEVENT
UID:c1775eb6cf54dce5@ausschreibungsradar.com
DTSTAMP:20260424T054929Z
DTSTART;VALUE=DATE:20260413
DTEND;VALUE=DATE:20260413
SUMMARY:Ausschreibung — Kinderhaus Oberlenningen - LV 410 Sanitärtechnik
DESCRIPTION:Phase: Ausschreibung | Beschreibung: Offizielle Ausschreibung mit Bieterfrist. | Link: https://ausschreibungsradar.com/ausschreibung/d68cca60-d3da-4139-80ec-792d51884a62/
URL:https://ausschreibungsradar.com/ausschreibung/d68cca60-d3da-4139-80ec-792d51884a62/
END:VEVENT
BEGIN:VEVENT
UID:45bb762dfcda8063@ausschreibungsradar.com
DTSTAMP:20260424T054929Z
DTSTART;VALUE=DATE:20260414
DTEND;VALUE=DATE:20260414
SUMMARY:Ausschreibung — Kinderhaus Oberlenningen - LV 410 Sanitärtechnik
DESCRIPTION:Phase: Ausschreibung | Beschreibung: Offizielle Ausschreibung mit Bieterfrist. | Link: https://ausschreibungsradar.com/ausschreibung/64aca086-3623-4765-912d-728dc2c695df/
URL:https://ausschreibungsradar.com/ausschreibung/64aca086-3623-4765-912d-728dc2c695df/
END:VEVENT
END:VCALENDAR
