BEGIN:VCALENDAR
VERSION:2.0
PRODID:-//AusschreibungsRadar//Timeline//DE
CALSCALE:GREGORIAN
METHOD:PUBLISH
X-WR-CALNAME:Projekt 47 Gebäudeautomation
X-WR-TIMEZONE:Europe/Berlin
BEGIN:VEVENT
UID:95f92c26fa9359e5@ausschreibungsradar.com
DTSTAMP:20260424T124644Z
DTSTART;VALUE=DATE:20250313
DTEND;VALUE=DATE:20250313
SUMMARY:Angebotsfrist — 47 Gebäudeautomation
DESCRIPTION:Phase: Ausschreibung | Beschreibung: Angebote werden eingeholt | Link: https://ausschreibungsradar.com/ausschreibung/691651c3-ea12-4081-8dc6-eb18a7a67eb9/
URL:https://ausschreibungsradar.com/ausschreibung/691651c3-ea12-4081-8dc6-eb18a7a67eb9/
END:VEVENT
BEGIN:VEVENT
UID:00fd94ae947c8aa2@ausschreibungsradar.com
DTSTAMP:20260424T124644Z
DTSTART;VALUE=DATE:20250428
DTEND;VALUE=DATE:20250428
SUMMARY:Vergabeergebnis — 47 Gebäudeautomation
DESCRIPTION:Phase: Vergabeergebnis | Beschreibung: Auftrag wurde zugeschlagen | Link: https://ausschreibungsradar.com/ausschreibung/3e6b9637-5378-4d0e-a9ae-0a882f9b99f1/
URL:https://ausschreibungsradar.com/ausschreibung/3e6b9637-5378-4d0e-a9ae-0a882f9b99f1/
END:VEVENT
END:VCALENDAR
