BEGIN:VCALENDAR
VERSION:2.0
PRODID:-//AusschreibungsRadar//Timeline//DE
CALSCALE:GREGORIAN
METHOD:PUBLISH
X-WR-CALNAME:Projekt 49EU/25 Unterhaltsreinigung von Verwaltungsgebäuden in 4 Los
X-WR-TIMEZONE:Europe/Berlin
BEGIN:VEVENT
UID:1422d46519828532@ausschreibungsradar.com
DTSTAMP:20260425T105458Z
DTSTART;VALUE=DATE:20250829
DTEND;VALUE=DATE:20250829
SUMMARY:Ausschreibung — 49EU/25 Unterhaltsreinigung von Verwaltungsgebäuden in 4 Los
DESCRIPTION:Phase: Ausschreibung | Beschreibung: Angebote werden eingeholt | Link: https://ausschreibungsradar.com/ausschreibung/31f89dda-28d6-4043-86c6-23f0984ae8ae/
URL:https://ausschreibungsradar.com/ausschreibung/31f89dda-28d6-4043-86c6-23f0984ae8ae/
END:VEVENT
BEGIN:VEVENT
UID:b48a94613f7f3b85@ausschreibungsradar.com
DTSTAMP:20260425T105458Z
DTSTART;VALUE=DATE:20251204
DTEND;VALUE=DATE:20251204
SUMMARY:Vergabeergebnis — 49EU/25 Unterhaltsreinigung von Verwaltungsgebäuden in 4 Los
DESCRIPTION:Phase: Vergabeergebnis | Beschreibung: Auftrag wurde zugeschlagen | Link: https://ausschreibungsradar.com/ausschreibung/3eb7d41f-039d-45d7-8937-aabbefbe3c1a/
URL:https://ausschreibungsradar.com/ausschreibung/3eb7d41f-039d-45d7-8937-aabbefbe3c1a/
END:VEVENT
END:VCALENDAR
