BEGIN:VCALENDAR
VERSION:2.0
PRODID:-//AusschreibungsRadar//Timeline//DE
CALSCALE:GREGORIAN
METHOD:PUBLISH
X-WR-CALNAME:Projekt Neubau Vierfach-Sporthalle Dinslaken - VE 120.1 - Dachdecker
X-WR-TIMEZONE:Europe/Berlin
BEGIN:VEVENT
UID:64fdd508003bcaa1@ausschreibungsradar.com
DTSTAMP:20260426T021401Z
DTSTART;VALUE=DATE:20240920
DTEND;VALUE=DATE:20240920
SUMMARY:Angebotsfrist — Neubau Vierfach-Sporthalle Dinslaken - VE 120.1 - Dachdecker
DESCRIPTION:Phase: Ausschreibung | Beschreibung: Angebote werden eingeholt | Link: https://ausschreibungsradar.com/ausschreibung/3f42e28c-45d0-4d56-abc8-d99e90745077/
URL:https://ausschreibungsradar.com/ausschreibung/3f42e28c-45d0-4d56-abc8-d99e90745077/
END:VEVENT
BEGIN:VEVENT
UID:11c88e647f59f5f5@ausschreibungsradar.com
DTSTAMP:20260426T021401Z
DTSTART;VALUE=DATE:20240816
DTEND;VALUE=DATE:20240816
SUMMARY:Ausschreibung — Neubau Vierfach-Sporthalle Dinslaken - VE 120.1 - Dachdecker
DESCRIPTION:Phase: Ausschreibung | Beschreibung: Offizielle Ausschreibung mit Bieterfrist. | Link: https://ausschreibungsradar.com/ausschreibung/ted-492119-2024/
URL:https://ausschreibungsradar.com/ausschreibung/ted-492119-2024/
END:VEVENT
BEGIN:VEVENT
UID:77077a1e490d7b9c@ausschreibungsradar.com
DTSTAMP:20260426T021401Z
DTSTART;VALUE=DATE:20241226
DTEND;VALUE=DATE:20241226
SUMMARY:Vergabeergebnis — Neubau Vierfach-Sporthalle Dinslaken - VE 120.1 - Dachdecker
DESCRIPTION:Phase: Vergabeergebnis | Beschreibung: Auftrag wurde zugeschlagen | Link: https://ausschreibungsradar.com/ausschreibung/39f7b857-dd23-44ca-9026-44ba2f9630dd/
URL:https://ausschreibungsradar.com/ausschreibung/39f7b857-dd23-44ca-9026-44ba2f9630dd/
END:VEVENT
END:VCALENDAR
