BEGIN:VCALENDAR
VERSION:2.0
PRODID:-//AusschreibungsRadar//Timeline//DE
CALSCALE:GREGORIAN
METHOD:PUBLISH
X-WR-CALNAME:Projekt 2026-0227 Rahmenvertrag über Reinigungsleistungen für Klärwe
X-WR-TIMEZONE:Europe/Berlin
BEGIN:VEVENT
UID:a1f693f5f32e0853@ausschreibungsradar.com
DTSTAMP:20260425T215351Z
DTSTART;VALUE=DATE:20260601
DTEND;VALUE=DATE:20260601
SUMMARY:Angebotsfrist — 2026-0227 Rahmenvertrag über Reinigungsleistungen für Klärwe
DESCRIPTION:Phase: Ausschreibung | Beschreibung: Angebote werden eingeholt | Link: https://ausschreibungsradar.com/ausschreibung/3f4a71d7-29c0-49d5-8cb4-767b7087228a/
URL:https://ausschreibungsradar.com/ausschreibung/3f4a71d7-29c0-49d5-8cb4-767b7087228a/
END:VEVENT
BEGIN:VEVENT
UID:c7677ca632062755@ausschreibungsradar.com
DTSTAMP:20260425T215351Z
DTSTART;VALUE=DATE:20260421
DTEND;VALUE=DATE:20260421
SUMMARY:Ausschreibung — 2026-0227 Rahmenvertrag über Reinigungsleistungen für Klärwe
DESCRIPTION:Phase: Ausschreibung | Beschreibung: Offizielle Ausschreibung mit Bieterfrist. | Link: https://ausschreibungsradar.com/ausschreibung/ted-269601-2026/
URL:https://ausschreibungsradar.com/ausschreibung/ted-269601-2026/
END:VEVENT
END:VCALENDAR
